BEGIN:VCALENDAR
VERSION:2.0
PRODID:-//wp-events-plugin.com//7.2.3.1//EN
BEGIN:VEVENT
UID:7104@kulturverein-schneverdingen.de
DTSTART:20231006T160000Z
DTEND:20231006T213000Z
DTSTAMP:20230821T070000Z
URL:https://kulturverein-schneverdingen.de/events/zack-bumm-bonjour-konzer
 te-mit-midway-bittter-rha/
SUMMARY:Zack Bumm Bonjour Konzerte mit Midway\, bittter & RHA.
DESCRIPTION:Dieses Mal geht es im Biergarten am Rathaus etwas härter zur S
 ache! Mit „Midway“ aus Schneverdingen (Punkrock)\, „RHA.“ aus Lün
 eburg (Screamo) und „bittter“ aus Hamburg und Schneverdingen (Hardcore
 -Punk) sind gleich drei lokale/regionale Bands mit von der Partie.  Veran
 staltet wird das Konzert von der frisch gegründeten Konzertgruppe „Zack
  Bumm Bonjour Konzerte“ und dem Kulturverein.  Dieses Duo wird in Zukun
 ft regelmäßig Konzerte in Schneverdingen veranstalten. \nVVK 7 €\nTK 
 9 €\n\n&nbsp\;\nTickets\n&nbsp\;
ATTACH;FMTTYPE=image/jpeg:https://kulturverein-schneverdingen.de/wp-conten
 t/uploads/2022/04/Bittter_Promo-Pic-web_Couch.jpg
CATEGORIES:Abends,Aktuell,Anlass/Voraussetzung,Archiv,Barrierefrei,Begegnu
 ngen/zusammen sein,Bei Regenwetter,Kommende Veranstaltungen,Konzert,Mit
 mehreren Leuten/wenn Besuch kommt,Open Air,Tageszeit,Veranstaltungsart
LOCATION:Biergarten am Rathaus\, Marktstraße 4\, Schneverdingen\, 29640\, 
 Deutschland
GEO:53.1190757;9.785757500000045
X-APPLE-STRUCTURED-LOCATION;VALUE=URI;X-ADDRESS=Marktstraße 4\, Schneverdi
 ngen\, 29640\, Deutschland;X-APPLE-RADIUS=100;X-TITLE=Biergarten am Rathau
 s:geo:53.1190757,9.785757500000045
END:VEVENT
END:VCALENDAR