BEGIN:VCALENDAR
VERSION:2.0
PRODID:-//wp-events-plugin.com//7.2.3.1//EN
BEGIN:VEVENT
UID:7778@kulturverein-schneverdingen.de
DTSTART:20241024T143000Z
DTEND:20241024T153000Z
DTSTAMP:20241001T072658Z
URL:https://kulturverein-schneverdingen.de/events/yoga-fuer-kinder-oktober
 -november-2024-10-24/
SUMMARY:Yoga für Kinder (Oktober/November)
DESCRIPTION:\nWir bieten einen neuen Kurs an: Yoga für Kinder! Unter der L
 eitung von Gaby Stolte-Schirmer findet ab dem immer donnerstags von 16:30
 –17:30 Uhr in dem Bewegungsraum der Kita Lünzen (Alte Landstraße 7) de
 r Kurs für die Kinder statt.\n\n\n\nKinderyoga macht vor allem eins – S
 paß. Typische Übungen wie der Hund\, die Katze\, die Kobra\, der Baum (u
 nd viele mehr) regen zur Nachahmung an und werden spielerisch und mit viel
  Fantasie umgesetzt.\n\n\n\nWir gestalten die Stunde mit Musik\, schönen 
 Yoga-Bewegungsgeschichten und Entspannungsübungen. Und ganz nebenbei för
 dern sanfte Bewegungen das Körperbewusstsein und die innere Balance\, au
 ßerdem werden die Kreativität und die Vorstellungskraft der Kinder anger
 egt.\n\n\n\nEin Angebot für Kinder von 6 bis 10 Jahren. Bitte mitbringen:
  Sportbekleidung\, wir turnen barfuß. Der Kulturverein stellt Yogamatten 
 und zur abschließenden Entspannung Wolldecken\, diese müssen also nicht 
 extra mitgebracht werden.\n\n\n\nDer Kurs kann immer monatlich gebucht wer
 den: Die Eltern oder Erziehungsberechtigten melden das Kind zum Beispiel f
 ür den Monat August für den Kurs an und bezahlen die entsprechende Gebü
 hr. Falls ein Termin seitens des Kulturvereins nicht eingehalten werden ka
 nn (zum Beispiel im Krankheitsfall der Leiterin)\, wird die Stunde kostenf
 rei nachgeholt. Sollte ein Kind nicht kommen können\, obwohl es angemelde
 t ist\, wird es leider keine Erstattung geben können. Es wird neben der m
 onatlichen Buchung auch ein Halbjahresticket geben. Die Buchung erfolgt ü
 ber das Ticketsystem vom Kulturverein.\n\n\n\nKosten pro Stunde:\n\n\n\nRe
 gulär: 6 Euro\n\n\n\nFamilienmitgliedschaft im Kulturverein: 4 Euro\nTerm
 ine: 24.10. | 07.11. | 14.11. Anmeldung über unser Ticketsystem   \n\n\
 n\nSobald das aktuell im Bau befindliche Kulturhaus „Alte Schlachterei
 “ bezugsfertig ist\, wird der Kurs in den neuen Räumlichkeiten stattfin
 den. Bis dahin darf der Verein den gemütlichen Bewegungsraum der Kinderta
 gesstätte „Lüttje Veersekinner“ in Lünzen nutzen. Der Kulturverein 
 erfährt eine sehr hohe Nachfrage nach Kursangeboten dieser Art. Dem kommt
  er mit dieser Neuerung in seinem Programm nach und wird – spätestens m
 it Umzug in das Kulturhaus – diesen Bereich deutlich ausbauen.\n\n\n\nÜ
 ber Gaby\n\n\n\n\n\nGaby ist Diplom-Kunsttherapeutin/-Pädagogin\, war im 
 heilpädagogischen Bereich tätig und arbeitet nun seit fünf Jahren im er
 zieherischen Bereich einer KiTa. Sie absolvierte 2021 eine Ausbildung mit 
 Zertifikat im Kinderyoga. „Besonders toll im Kinderyoga finde ich die fa
 ntasievollen Bewegungsgeschichten und die Ideen der Kinder dazu.“ Gaby i
 st auch anderweitig im Kulturverein aktiv: Im Kurs „Kleine Künstler*inn
 en ganz groß“ übernimmt sie ehrenamtlich mit vier weiteren Frauen die 
 künstlerische Leitung der spannenden Kreativeinheiten.\n
ATTACH;FMTTYPE=image/jpeg:https://kulturverein-schneverdingen.de/wp-conten
 t/uploads/2024/03/English-Conversation-6.png
CATEGORIES:Aktuell,Bei Regenwetter,Kommende
 Veranstaltungen,Sonstiges,Soziokultur,Tageszeit,Tagsüber,Veranstaltungsar
 t
LOCATION:Bewegungsraum Kita Lünzen\, Alte Landstraße 7\, Schneverdingen\,
  29640\, Deutschland
X-APPLE-STRUCTURED-LOCATION;VALUE=URI;X-ADDRESS=Alte Landstraße 7\, Schnev
 erdingen\, 29640\, Deutschland;X-APPLE-RADIUS=100;X-TITLE=Bewegungsraum Ki
 ta Lünzen:geo:0,0
END:VEVENT
END:VCALENDAR