BEGIN:VCALENDAR
VERSION:2.0
PRODID:-//wp-events-plugin.com//7.2.3.1//EN
BEGIN:VEVENT
UID:7700@kulturverein-schneverdingen.de
DTSTART:20240620T143000Z
DTEND:20240620T153000Z
DTSTAMP:20240521T072102Z
URL:https://kulturverein-schneverdingen.de/events/yoga-fuer-kinder-juni-3/
SUMMARY:Yoga für Kinder (Juni)
DESCRIPTION:\nWir bieten einen neuen Kurs an: Yoga für Kinder! Unter der L
 eitung von Gaby Stolte-Schirmer findet ab dem immer donnerstags von 16:30
 –17:30 Uhr in dem Bewegungsraum der Kita Lünzen (Alte Landstraße 7) de
 r Kurs für die Kinder statt.\n\n\n\nKinderyoga macht vor allem eins – S
 paß. Typische Übungen wie der Hund\, die Katze\, die Kobra\, der Baum (u
 nd viele mehr) regen zur Nachahmung an und werden spielerisch und mit viel
  Fantasie umgesetzt.\n\n\n\nWir gestalten die Stunde mit Musik\, schönen 
 Yoga-Bewegungsgeschichten und Entspannungsübungen. Und ganz nebenbei för
 dern sanfte Bewegungen das Körperbewusstsein und die innere Balance\, au
 ßerdem werden die Kreativität und die Vorstellungskraft der Kinder anger
 egt.\n\n\n\nEin Angebot für Kinder von 6 bis 10 Jahren. Bitte mitbringen:
  Sportbekleidung\, wir turnen barfuß. Der Kulturverein stellt Yogamatten 
 und zur abschließenden Entspannung Wolldecken\, diese müssen also nicht 
 extra mitgebracht werden.\n\n\n\nDer Kurs kann immer monatlich gebucht wer
 den: Die Eltern oder Erziehungsberechtigten melden das Kind zum Beispiel f
 ür den Monat Mai für den Kurs an und bezahlen die entsprechende Gebühr.
  Falls ein Termin seitens des Kulturvereins nicht eingehalten werden kann 
 (zum Beispiel im Krankheitsfall der Leiterin)\, wird die Stunde kostenfrei
  nachgeholt. Sollte ein Kind nicht kommen können\, obwohl es angemeldet i
 st\, wird es leider keine Erstattung geben können. Es wird neben der mona
 tlichen Buchung auch ein Halbjahresticket geben. Die Buchung erfolgt über
  das Ticketsystem vom Kulturverein.\n\n\n\nKosten pro Stunde:\n\n\n\nRegul
 är: 6 Euro\n\n\n\nFamilienmitgliedschaft im Kulturverein: 4 EuroTermine i
 m Juni: 6.6. | 7.6. | 20.6.\n\n\n\nEs müssen mindestens fünf Kinder ange
 meldet sein\, damit der Kurs stattfinden kann.\n\n\n\nSobald das aktuell i
 m Bau befindliche Kulturhaus „Alte Schlachterei“ bezugsfertig ist\, wi
 rd der Kurs in den neuen Räumlichkeiten stattfinden. Bis dahin darf der V
 erein den gemütlichen Bewegungsraum der Kindertagesstätte „Lüttje Vee
 rsekinner“ in Lünzen nutzen. Der Kulturverein erfährt eine sehr hohe N
 achfrage nach Kursangeboten dieser Art. Dem kommt er mit dieser Neuerung i
 n seinem Programm nach und wird – spätestens mit Umzug in das Kulturhau
 s – diesen Bereich deutlich ausbauen.\n\n\n\nÜber Gaby\n\n\n\n\n\n\n\nG
 aby ist Diplom-Kunsttherapeutin/-Pädagogin\, war im heilpädagogischen Be
 reich tätig und arbeitet nun seit fünf Jahren im erzieherischen Bereich 
 einer KiTa. Sie absolvierte 2021 eine Ausbildung mit Zertifikat im Kindery
 oga.\n\n\n\n\n„Besonders toll im Kinderyoga finde ich die fantasievollen
  Bewegungsgeschichten und die Ideen der Kinder dazu.“\n\n\n\n\nGaby ist 
 auch anderweitig im Kulturverein aktiv: Im Kurs „Kleine Künstler*innen 
 ganz groß“ übernimmt sie ehrenamtlich mit vier weiteren Frauen die kü
 nstlerische Leitung der spannenden Kreativeinheiten.\n
ATTACH;FMTTYPE=image/jpeg:https://kulturverein-schneverdingen.de/wp-conten
 t/uploads/2024/03/English-Conversation-6.png
CATEGORIES:Aktuell
LOCATION:Bewegungsraum Kita Lünzen\, Alte Landstraße 7\, Schneverdingen\,
  29640\, Deutschland
X-APPLE-STRUCTURED-LOCATION;VALUE=URI;X-ADDRESS=Alte Landstraße 7\, Schnev
 erdingen\, 29640\, Deutschland;X-APPLE-RADIUS=100;X-TITLE=Bewegungsraum Ki
 ta Lünzen:geo:0,0
END:VEVENT
END:VCALENDAR