BEGIN:VCALENDAR
VERSION:2.0
PRODID:-//wp-events-plugin.com//7.2.3.1//EN
BEGIN:VEVENT
UID:6899@kulturverein-schneverdingen.de
DTSTART:20230414T173000Z
DTEND:20230414T200000Z
DTSTAMP:20230227T103100Z
URL:https://kulturverein-schneverdingen.de/events/wir-ihr-impro-mit-euch-u
 nd-uns/
SUMMARY:WIR & IHR: „Impro – mit EUCH und UNS“
DESCRIPTION:IMPROSHOW mit WIR &amp\; IHR: Auf der Bühne der KulturStellmac
 herei haben wir vor fast sechs Jahren die erste Impro-Show für den Kultur
 verein in Schneverdingen aufgeführt und bevor das langjährige Zuhause de
 s Kulturvereins verlassen werden muss\, wollten wir an diesem Ort noch ein
 mal spielend improvisieren. Mit ihrem facettenreichen Programm freuen sich
  WIR &amp\; IHR (Patricia\, Sonja\, Erwin und Harald) darauf\, Euch aufs N
 eue überraschende Momente in den Spielen zu zeigen\, die durch Eure locke
 ren Zurufe ad hoc entstehen. Spaß und Freude wollen wir miteinander haben
 \, aber es wird sicher nicht nur „Schenkelklopfer“ geben\, wir können
  auch seriös sein und manche Geschichte geht bestimmt ganz anders aus\, a
 ls es erst einmal den Anschein hat. \n\nEintritt: VVK  8  €  / TK  1
 0  € 
ATTACH;FMTTYPE=image/jpeg:https://kulturverein-schneverdingen.de/wp-conten
 t/uploads/2023/02/20220919-1-WIRIHR-Erwin-Kreie-Patricia-Koerber-Sonja-Ste
 phan-Harald-W.-Moser-scaled.jpg
CATEGORIES:Abends,Aktuell,Anlass/Voraussetzung,Archiv,Barrierefrei,Begegnu
 ngen/zusammen sein,Bei Regenwetter,Kommende Veranstaltungen,Mit der
 Familie,Mit mehreren Leuten/wenn Besuch kommt,Theater,Veranstaltungsart
LOCATION:Kulturhaus "Alte Schlachterei"\, Am Markt 2 \, Schneverdingen\, 29
 640\, Deutschland
GEO:53.115125;9.791724
X-APPLE-STRUCTURED-LOCATION;VALUE=URI;X-ADDRESS=Am Markt 2 \, Schneverdinge
 n\, 29640\, Deutschland;X-APPLE-RADIUS=100;X-TITLE=Kulturhaus \"Alte Schla
 chterei\":geo:53.115125,9.791724
END:VEVENT
END:VCALENDAR