BEGIN:VCALENDAR
VERSION:2.0
PRODID:-//wp-events-plugin.com//7.2.3.1//EN
BEGIN:VEVENT
UID:9033@kulturverein-schneverdingen.de
DTSTART:20251205T173000Z
DTEND:20251205T200000Z
DTSTAMP:20251016T175251Z
URL:https://kulturverein-schneverdingen.de/events/wiehnacht-mit-appeldwats
 ch-3/
SUMMARY:Wiehnacht mit Appeldwatsch
DESCRIPTION:\nInternationale plattdüütsche Skiffle Wiehnacht mit der Band
  Appeldwatsch\n\n\n\nSchon zur Tradition geworden ist das alljährliche Ko
 nzert von "Appeldwatsch" zum Snevern Wiehnachtsmarkt. Die Band macht im pl
 attdeutschen Land seit einiger Zeit von sich reden. Unter dem Namen "Appel
 dwatsch" präsentieren die sechs Musiker der bekannten Band „Appeltown W
 ashboard Worms“ traditionelles plattdeutsches Liedgut mal verträumt\, m
 al fetzig und eigene weihnachtlich plattdeutsche Texte im Skiffle-Sound de
 r 50er Jahre.\n\n\n\nAm Feitag\, den 05.12.2025\, bringen sie um 19.30 Uhr
  in die Peter- und Paul-Kirche in Schneverdingen ein Weihnachtskonzert der
  besonderen Art. Da in den Reihen der Band zwei plattdeutsche Musiker der 
 ehemaligen Band "Leederkroom" und Musiker aus verschiedenen Nationalitäte
 n zusammen spielen\, haben sie ihr Programm eine "Internationale plattdü
 ütsche Skiffle Wiehnacht" genannt. Neben plattdeutschen Stücken werden W
 eihnachtslieder aus Österreich\, Frankreich\, Norwegen und dem Ammerland 
 zu hören sein. Da hört man die "Jingle Bells" nicht nur auf Englisch\, s
 ondern auch auf Norwegisch\, Österreichisch und Plattdeutsch. Der bekannt
 e österreichische Zaubergeiger Helmut Stuarnig wird mit einem rasanten Co
 untry-Sound überraschen und wahre Begeisterungsstürme im Publikum entfac
 hen\, der kirchenchor-geschulte Banjo-Spieler Carsten Meins die eine oder 
 andere schräge plattdeutsche Weihnachtsgeschichte vorlesen und der Norweg
 er Finn Olaf Walter von Weihnachts-Bräuchen aus seiner Heimat erzählen u
 nd entsprechende Weihnachtslieder anstimmen. Rasanter vierhändiger Piano-
 Boogie-Woogie folgt einfühlsamen Winterliedern\, weihnachtliche Rock´n´
 Roll-Fetzer begleiten akrobatische Show-Einlagen auf dem Kontrabass. Tradi
 tionelles plattdeutsches Liedgut und eine Moderation auf altländer Platt 
 von Wolfgang Hilke sind auch bei „Appeldwatsch“ selbstverständlich im
  Programm. Plattdüütsche Döntjes und die bekannte Spielfreude der Band 
 bereiten ein vergnügliches Weihnachtskonzert.\n\n\n\n\nhttps://youtu.be/n
 CGL-9ciUGM\n\n\n\n\nBesetzung:Carsten Meins&nbsp\;&nbsp\;&nbsp\;&nbsp\;&nb
 sp\;&nbsp\;&nbsp\;&nbsp\;&nbsp\;&nbsp\; 5string Banjo\, Mandoline\, Kontra
 bass\, Gesang\,Train-WhistleFinn Olaf Walter&nbsp\;&nbsp\;&nbsp\;&nbsp\;&n
 bsp\;&nbsp\;&nbsp\; E-Gitarre\, GesangMatthias Meissner &nbsp\;&nbsp\; Dru
 ms\, Waschbrett\, Kochtöpfe\, CajonKlaus Lüers&nbsp\;&nbsp\;&nbsp\;&nbsp
 \;&nbsp\;&nbsp\;&nbsp\;&nbsp\;&nbsp\;&nbsp\;&nbsp\;&nbsp\;&nbsp\;&nbsp\;&n
 bsp\; Kontrabass\, Akkordeon\, Piano\, GesangHelmut Stuarnig&nbsp\;&nbsp\;
 &nbsp\;&nbsp\;&nbsp\;&nbsp\; Country-FiddleWolfgang Hilke&nbsp\;&nbsp\;&nb
 sp\;&nbsp\;&nbsp\;&nbsp\;&nbsp\;&nbsp\;&nbsp\; A-Gitarre\, Gesang\n\n\n\nE
 intritt: VVK 20 &nbsp\; €&nbsp\;&nbsp\; TK&nbsp\; 22&nbsp\; € zzgl. Be
 arbeitungsgebühren\n\n\n\nGemeinsame Veranstaltung mit der Peter-und-Paul
 -Kirchengemeinde.\n\n\n\n&nbsp\;\n\n\n\n\n
ATTACH;FMTTYPE=image/jpeg:https://kulturverein-schneverdingen.de/wp-conten
 t/uploads/2022/02/ADW-Weih-1-klein.jpg
CATEGORIES:Abends,Aktuell,Anlass/Voraussetzung,Archiv,Barrierefrei,Begegnu
 ngen/zusammen sein,Bei Regenwetter,Kommende Veranstaltungen,Konzert,Mit
 der Familie,Mit mehreren Leuten/wenn Besuch kommt,Tageszeit
LOCATION:Peter und Paul Kirche\, Friedensstraße\, Schneverdingen\, 29640\,
  Deutschland
GEO:53.1170322;9.785943599999996
X-APPLE-STRUCTURED-LOCATION;VALUE=URI;X-ADDRESS=Friedensstraße\, Schneverd
 ingen\, 29640\, Deutschland;X-APPLE-RADIUS=100;X-TITLE=Peter und Paul Kirc
 he:geo:53.1170322,9.785943599999996
END:VEVENT
END:VCALENDAR