BEGIN:VCALENDAR
VERSION:2.0
PRODID:-//wp-events-plugin.com//7.2.3.1//EN
BEGIN:VEVENT
UID:6888@kulturverein-schneverdingen.de
DTSTART:20230623T170000Z
DTEND:20230623T200000Z
DTSTAMP:20230227T113022Z
URL:https://kulturverein-schneverdingen.de/events/weltkulturen-philippinen
 -2/
SUMMARY:Weltkulturen - Philippinen                  
DESCRIPTION:Es geht wieder los – Wir gehen auf Weltreise.\nAm 23.06.2023 
 um 19.00 Uhr starten wir nach langer Pause unsere Reihe Weltkulturen in de
 r KulturStellmacherei und nehmen Sie mit in das Land Republik der Philippi
 nen.\nIm September 2017 fand schon einmal ein Abend mit den Filipinas und 
 Filipinos statt\, der vielen Gästen in herzlicher Erinnerung geblieben is
 t. Mit viel Lebensfreude und Sympathie wurde uns das per Luftlinie 10.302\
 ,36 km entfernte Land vorgestellt.\n\nNun\, gut sechs Jahre später\, freu
 en wir uns auf eine erneute Reise mit vielen neuen Informationen\, landest
 ypischer Musik und kulinarischen Köstlichkeiten aus dem Land im westliche
 n Pazifischen Ozean.\nWir freuen uns auf Sie und auf viele nette Gespräch
 e und Begegnungen.\nDer Eintritt ist frei.\nDie Veranstaltung findet in Zu
 sammenarbeit mit der Gleichstellungsbeauftragten der Stadt Schneverdingen 
 Agnes Klör statt.\n&nbsp\;
ATTACH;FMTTYPE=image/jpeg:https://kulturverein-schneverdingen.de/wp-conten
 t/uploads/2023/02/2017-Philippinen-Weltkulturen-scaled.jpg
CATEGORIES:Abends,Aktuell,Anlass/Voraussetzung,Archiv,Barrierefrei,Begegnu
 ngen/zusammen sein,Bei Regenwetter,Eintritt frei,Kommende
 Veranstaltungen,Mit der Familie,Mit mehreren Leuten/wenn Besuch
 kommt,Soziokultur,Tageszeit,Veranstaltungsart
LOCATION:Kulturhaus "Alte Schlachterei"\, Am Markt 2 \, Schneverdingen\, 29
 640\, Deutschland
GEO:53.115125;9.791724
X-APPLE-STRUCTURED-LOCATION;VALUE=URI;X-ADDRESS=Am Markt 2 \, Schneverdinge
 n\, 29640\, Deutschland;X-APPLE-RADIUS=100;X-TITLE=Kulturhaus \"Alte Schla
 chterei\":geo:53.115125,9.791724
END:VEVENT
END:VCALENDAR