BEGIN:VCALENDAR
VERSION:2.0
PRODID:-//wp-events-plugin.com//7.2.3.1//EN
BEGIN:VEVENT
UID:6630@kulturverein-schneverdingen.de
DTSTART:20221013T173000Z
DTEND:20221013T193000Z
DTSTAMP:20220302T152658Z
URL:https://kulturverein-schneverdingen.de/events/vortrag-dr-stephan-heine
 mann-die-aera-des-wirtschaftswunders-im-heidekreis/
SUMMARY:Vortrag Dr. Stephan Heinemann: "Die Ära des Wirtschaftswunders im 
 Heidekreis"
DESCRIPTION:Das Jahrbuch des Landkreises Heidekreis für 2021/22 beschäfti
 gt sich mit der Zeit des sogenannten Wirtschaftswunders. Es wirft einen Bl
 ick auf die Ereignisse der Jahre zwischen 1949 und 1969 samt ihren Auswirk
 ungen auf den Heidekreis unter verschiedenen Gesichtspunkten.\nZunächst g
 eht es um die Politik\, bei der der Wiederaufbau und Neubau von Wohnungen 
 sowie der Infrastruktur im Fokus standen. Daneben kam es zu ersten Bestreb
 ungen zur Bildung größerer Verwaltungseinheiten durch Zusammenschlüsse 
 von Gemeinden. Die Vielzahl der Parteien nahm zugunsten der nun entstehend
 en Volksparteien CDU und SPD ab.\nIm Bereich der Wirtschaft siedelten sich
  neue Unternehmen im Kreisgebiet (z.B. „Kraft“ in Fallingbostel) an\, 
 während die bereits vorhandenen prosperierten. Damit einher gingen die du
 rch Engpässe auf dem heimischen Arbeitsmarkt notwendig gewordene Anwerbun
 g ausländischer Arbeitskräfte („Gastarbeiter“) sowie eine zunehmende
  Technisierung aller Lebensbereiche und Mechanisierung der Landwirtschaft.
  Der Bau der Autobahn erweiterte und verbesserte das Verkehrswegenetz. Als
  neues Medium verbreitete sich das Fernsehen.\nEs veränderte den Alltag e
 benso wie die zunehmenden Konsummöglichkeiten\, die sich aus mehr Freizei
 t und steigenden Einkommen ergaben. Das Vereinsleben blühte auf\; die Zah
 l der Feste und Feiern nahm zu. Im Bildungsbereich kam es nicht nur zum Ba
 u neuer Schulen\, sondern auch zu ersten Reformversuchen. Dabei führten d
 ie neuen Mittelpunktschulen zur Schließung vieler der traditionellen Dorf
 schulen.\nZu einer relevanter werdenden sozialen Gruppe wurden die Jugendl
 ichen\, die sich immer mehr Gehör verschafften. Ihre Forderungen nach ein
 er stärkeren Teilhabe am gesellschaftlichen Leben bzw. Mitwirkungsmöglic
 hkeit an Entscheidungen gipfelten in einer Ende der 1960er Jahre entstande
 nen Protestbewegung\, die sich im Laufe des nachfolgenden Jahrzehnts weite
 r ausbreitete.\nHauptsächliche Quellen für das Jahrbuch waren verschiede
 ne Orts- und Schulchroniken. Auch teilweise noch unbekannte Akten aus regi
 onalen wie überregionalen Archiven sowie unveröffentlichte Fotos\, darun
 ter viele in Farbe\, und andere Dokumente aus Privatbesitz bereichern dies
 e Publikation. Ergänzt wird sie durch Interviews mit Zeitzeugen oder dere
 n Nachfahren.\nDie Entstehung dieses Jahrbuches wurde wieder durch den Lan
 dkreis Heidekreis unterstützt. Während der Landkreis die Verteilung übe
 rnimmt\, kümmert sich der Kulturverein Schneverdingen e.V. um die Abwickl
 ung. Der Kulturverein möchte mit diesem Projekt seine gute Zusammenarbeit
  mit dem Landkreis fortführen und sich für die historische Aufarbeitung 
 überregionaler Kultur einsetzen.\n\nBei der Präsentation des Buches vor 
 der KulturStellmacherei in Schneverdingen im Herbst 2021 Stephan Heinemann
  3. von links\nFoto: privat\n\nStephan Heinemann (geboren 1970) stammt aus
  Walsrode\, wo er sich schon als Schüler für die Ortsgeschichte interess
 iert hat. Nach seinem Studium in Hannover und Potsdam und der Promotion is
 t er heute als freier Historiker und Journalist in Berlin tätig. Seit 201
 3 betreut und gestaltet er die neue Jahrbuch-Reihe des Heidekreises\, die 
 sich mit der Kreisgeschichte seit 1890 beschäftigt. Im Dezember 2021 ersc
 hien der vierte Band\, der die Ära des „Wirtschaftswunders“ zwischen 
 1949 und 1969 thematisiert. In seinem Vortrag wird Dr. Heinemann auf einig
 e Aspekte und Entwicklungen im damaligen Kreis Soltau eingehen. Erhältlic
 h ist das dazugehörige Buch beim Kulturverein Schneverdingen. Die vorheri
 gen Jahrbücher können am Vortragsabend ebenfalls erworben werden. \nEin
 tritt  VVK  9 €  AK  12 €\n&nbsp\;
ATTACH;FMTTYPE=image/jpeg:https://kulturverein-schneverdingen.de/wp-conten
 t/uploads/2022/03/HK_Jahrbuch2021-2022_Titel.jpg
CATEGORIES:Abends,Aktuell,Anlass/Voraussetzung,Archiv,Barrierefrei,Begegnu
 ngen/zusammen sein,Bei Regenwetter,Kommende
 Veranstaltungen,Lesung/Literatur,Mit der Familie,Mit mehreren Leuten/wenn
 Besuch kommt,Tageszeit,Veranstaltungsart
LOCATION:Kulturhaus "Alte Schlachterei"\, Am Markt 2 \, Schneverdingen\, 29
 640\, Deutschland
GEO:53.115125;9.791724
X-APPLE-STRUCTURED-LOCATION;VALUE=URI;X-ADDRESS=Am Markt 2 \, Schneverdinge
 n\, 29640\, Deutschland;X-APPLE-RADIUS=100;X-TITLE=Kulturhaus \"Alte Schla
 chterei\":geo:53.115125,9.791724
END:VEVENT
END:VCALENDAR