BEGIN:VCALENDAR
VERSION:2.0
PRODID:-//wp-events-plugin.com//7.2.3.1//EN
BEGIN:VEVENT
UID:5653@kulturverein-schneverdingen.de
DTSTART:20201210T163000Z
DTEND:20201210T180000Z
DTSTAMP:20200804T075101Z
URL:https://kulturverein-schneverdingen.de/events/vorhang-auf-vorspiel-der
 -musikschule-heidekreis-3/
SUMMARY:***Fällt leider aus!*** Vorhang auf! Vorspiel der Musikschule Heid
 ekreis
DESCRIPTION:Die Schülerinnen und Schüler der Musikschule Heidekreis präs
 entieren ihr Können der Öffentlichkeit und spielen Weihnachtslieder vor 
 größerem Publikum.\nDer Eintritt ist frei
ATTACH;FMTTYPE=image/jpeg:https://kulturverein-schneverdingen.de/wp-conten
 t/uploads/2015/03/Flöten.jpg
CATEGORIES:Aktuell,Archiv
LOCATION:Kulturhaus "Alte Schlachterei"\, Am Markt 2 \, Schneverdingen\, 29
 640\, Deutschland
GEO:53.115125;9.791724
X-APPLE-STRUCTURED-LOCATION;VALUE=URI;X-ADDRESS=Am Markt 2 \, Schneverdinge
 n\, 29640\, Deutschland;X-APPLE-RADIUS=100;X-TITLE=Kulturhaus \"Alte Schla
 chterei\":geo:53.115125,9.791724
END:VEVENT
END:VCALENDAR