BEGIN:VCALENDAR
VERSION:2.0
PRODID:-//wp-events-plugin.com//7.2.3.1//EN
BEGIN:VEVENT
UID:6756@kulturverein-schneverdingen.de
DTSTART:20230601T173000Z
DTEND:20230601T194500Z
DTSTAMP:20230522T141720Z
URL:https://kulturverein-schneverdingen.de/events/treffpunkt-kulturstellma
 cherei-buehne-frei-hex-hex-and-the-firemakers/
SUMMARY:Treffpunkt KulturStellmacherei – Bühne frei! EXTRA! Jamfire
DESCRIPTION:Diese Veranstaltung musste im März leider aus Krankheitsgründ
 en ausfallen.\nWir freuen uns so schnell einen Ersatztermin gefunden zu ha
 ben.\nIn der Zwischzeit hat die Band auch ihren Namen geändert. Sie blieb
 en aber dieselben Personen:\nWir kommen aus Handeloh\, Undeloh und Schneve
 rdingen und machen Musik für Leib und Seele. Soul-\, Pop- und Rockmusik i
 st das\, was uns gefällt\, von früher bis heute. Wir\, das sind: Christi
 ane Hinrichs (Gesang)\, Harry Petersen (Bass)\, Uwe Bieberschick (Drums) u
 nd Matthias Schulz (Gitarre).\nWie immer ist bei unserer Reihe „Bühne f
 rei!“ der Eintritt frei.
ATTACH;FMTTYPE=image/jpeg:https://kulturverein-schneverdingen.de/wp-conten
 t/uploads/2022/11/Hexhex_300-150-max.jpg
CATEGORIES:Abends,Aktuell,Anlass/Voraussetzung,Archiv,Barrierefrei,Begegnu
 ngen/zusammen sein,Bei Regenwetter,Eintritt frei,Kommende
 Veranstaltungen,Konzert,Mit der Familie,Mit mehreren Leuten/wenn Besuch
 kommt,Tageszeit,Veranstaltungsart
LOCATION:Kulturhaus "Alte Schlachterei"\, Am Markt 2 \, Schneverdingen\, 29
 640\, Deutschland
GEO:53.115125;9.791724
X-APPLE-STRUCTURED-LOCATION;VALUE=URI;X-ADDRESS=Am Markt 2 \, Schneverdinge
 n\, 29640\, Deutschland;X-APPLE-RADIUS=100;X-TITLE=Kulturhaus \"Alte Schla
 chterei\":geo:53.115125,9.791724
END:VEVENT
END:VCALENDAR