BEGIN:VCALENDAR
VERSION:2.0
PRODID:-//wp-events-plugin.com//7.2.3.1//EN
BEGIN:VEVENT
UID:6443@kulturverein-schneverdingen.de
DTSTART:20211028T173000Z
DTEND:20211028T200000Z
DTSTAMP:20211012T180424Z
URL:https://kulturverein-schneverdingen.de/events/treffpunkt-kulturstellma
 cherei-buehne-frei-duo-bliss/
SUMMARY:Treffpunkt KulturStellmacherei – Bühne frei!  Duo Bliss
DESCRIPTION:Das Duo Bliss interpretiert überwiegend englische Folk und Pop
 songs\, die zumeist das Thema Liebe behandeln. Ihren Gesang begleiten sie 
 mit Gitarren\, Flöten und Whistles\, sowie seit einiger Zeit auch mit ein
 er Concertina.\nSie selbst bezeichnen ihren Stil und ihre Musik als "Entsc
 hleunigungsmusik". In ihre Musik fließen neben den englischen\, auch schw
 edische\, niederdeutsche und deutsche Texte ein. Stets sind sie auf der Su
 che nach Musik\, die Eingang in ihre Herzen findet.\n"Duo Bliss"\, das sin
 d Hilke Feldmann &amp\; Jan Glink aus Fintel.\nDer Name "Bliss" (engl. Gl
 ück\, Seligkeit) ist aus dem Gefühl entstanden\, das die beiden bei dem 
 Spielen ihrer Lieder überkommen hat\, Glückseligkeit eben.\nGenau das zi
 eht sich auch als roter Faden durch die Auswahl ihrer Lieder.\nIn den letz
 ten Jahren haben sie ihr Repertoire kontinuierlich durch irische Tanzmelod
 ien\, sowie durch Musik von zeitgenössischen irischen/schottischen Songwr
 itern erweitert. Ein weites Feld wunderbarer Musik\, in der viel Gefühl s
 teckt\, die dem Namen alle Ehre macht - Bliss eben.\nEintritt frei\nDie Ve
 ranstaltung findet unter Anwendung der 2G-Regelung statt.
ATTACH;FMTTYPE=image/jpeg:https://kulturverein-schneverdingen.de/wp-conten
 t/uploads/2021/08/2021_10_28_Duo_Bliss-1-scaled.jpeg
CATEGORIES:Abends,Aktuell,Anlass/Voraussetzung,Archiv,Barrierefrei,Begegnu
 ngen/zusammen sein,Eintritt frei,Kommende Veranstaltungen,Konzert
LOCATION:Kulturhaus "Alte Schlachterei"\, Am Markt 2 \, Schneverdingen\, 29
 640\, Deutschland
GEO:53.115125;9.791724
X-APPLE-STRUCTURED-LOCATION;VALUE=URI;X-ADDRESS=Am Markt 2 \, Schneverdinge
 n\, 29640\, Deutschland;X-APPLE-RADIUS=100;X-TITLE=Kulturhaus \"Alte Schla
 chterei\":geo:53.115125,9.791724
END:VEVENT
END:VCALENDAR