BEGIN:VCALENDAR
VERSION:2.0
PRODID:-//wp-events-plugin.com//7.2.3.1//EN
BEGIN:VEVENT
UID:6444@kulturverein-schneverdingen.de
DTSTART:20211125T173000Z
DTEND:20211125T200000Z
DTSTAMP:20211123T152205Z
URL:https://kulturverein-schneverdingen.de/events/treffpunkt-kulturstellma
 cherei-buehne-frei-band-ingridienza/
SUMMARY:***Veranstaltung fällt leider krankheitsbedingt aus! ***      Tref
 fpunkt KulturStellmacherei – Bühne frei!  Band Ingridienza
DESCRIPTION:Veranstaltung fällt leider krankheitsbedingt aus!\n&nbsp\;\nDi
 e Band Ingridienza\, die kürzlich mit ihrem Musikvideo zum Song „Mon Co
 eur t‘aime“ auch international auf sich aufmerksam machen konnte\, ist
  nun wieder live unterwegs.\nMit ihrem Mix aus charmanten und immer auch e
 motional und inhaltlich engagierten Songs kommt die Band in vielfältiger 
 Ausprägung daher: zart oder rau\, leidenschaftlich oder feinsinnig\, von 
 der Ballade bis zum Ohrwurm-Mitsing-Song. Melodiös\, aber nie flach.\nDas
  Prinzip „handgemachte Musik“ hat oberste Priorität – Ingridienza l
 ässt mit akustischer Gitarre\, Perkussion\, Bass und mehrstimmigem Gesang
  atmosphärische Songs in ausgefeilten Arrangements entstehen.\nDas breit 
 gefächerte Repertoire stammt aus der eigenen Feder und der Band ist es se
 hr wichtig\, dass Text und Musik eine stimmige und sich gegenseitig unters
 tützende Einheit eingehen. \nIngridienza sind: \nIna Heinsohn (Gesang\, B
 ass\, Perkussion) \nAngela Westermann (Perkussion\, Backgroundvocals) \nRa
 iner Heinsohn (Gitarre\, Gesang\, Text und Komposition) \nwww.ingridienza.
 com\nEintritt frei\nDie Veranstaltung findet unter Anwendung der 2G-Regelu
 ng statt.
ATTACH;FMTTYPE=image/jpeg:https://kulturverein-schneverdingen.de/wp-conten
 t/uploads/2021/08/2021_11_25_Ingridienza_Pressefoto-scaled.jpg
CATEGORIES:Aktuell,Archiv,Barrierefrei,Bei Regenwetter,Eintritt
 frei,Kommende Veranstaltungen,Konzert
LOCATION:Kulturhaus "Alte Schlachterei"\, Am Markt 2 \, Schneverdingen\, 29
 640\, Deutschland
GEO:53.115125;9.791724
X-APPLE-STRUCTURED-LOCATION;VALUE=URI;X-ADDRESS=Am Markt 2 \, Schneverdinge
 n\, 29640\, Deutschland;X-APPLE-RADIUS=100;X-TITLE=Kulturhaus \"Alte Schla
 chterei\":geo:53.115125,9.791724
END:VEVENT
END:VCALENDAR