BEGIN:VCALENDAR
VERSION:2.0
PRODID:-//wp-events-plugin.com//7.2.3.1//EN
BEGIN:VEVENT
UID:6577@kulturverein-schneverdingen.de
DTSTART:20220121T160000Z
DTEND:20220121T170000Z
DTSTAMP:20211216T154830Z
URL:https://kulturverein-schneverdingen.de/events/theaterschmiede-prinz-fe
 rdinand-auf-der-suche-nach-der-holdesten-braut/
SUMMARY:TheaterSchmiede: "Prinz Ferdinand auf der Suche nach der holdesten 
 Braut"
DESCRIPTION:"Prinz Ferdinand auf der Suche nach der holdesten Braut"\nEs is
 t ein Märchenpotpouri und geschrieben von Sabine Schüffelchen.\n\nAuf de
 r Suche nach der Braut trifft Prinz Ferdinand auf den gestiefelten Kater. 
 Dieser gibt ihm Tipps\, wo er nette Prinzessinnen finden kann. Ob Prinz Fe
 rdinand am Ende seine Braut trifft?\nUnsere Kindertheatergruppe freut sich
  auf den ersten Auftritt seit zwei Jahren. Die letzten beiden Vorstellunge
 n mussten leider ausfallen\, sodass dieses Stück nun schon mehrfach von d
 en Kindern eingeübt werden musste.\nWir bitten um Anmeldung an kontakt@ku
 lturverein-schneverdingen.de\nDer Eintritt ist frei\nVeranstaltungsbühne:
  Grundschule  Hansahlen\, Am Jordan 7\nBeginn: 18 Uhr\, Einlass 17.30 Uhr
 \nDie Veranstaltung findet unter 2G-Regelung statt.
ATTACH;FMTTYPE=image/jpeg:https://kulturverein-schneverdingen.de/wp-conten
 t/uploads/2021/12/IMG-20211202-WA0004.jpg
CATEGORIES:Abends,Aktuell,Anlass/Voraussetzung,Archiv,Barrierefrei,Begegnu
 ngen/zusammen sein,Bei Regenwetter,Eintritt frei,Kommende
 Veranstaltungen,Mit der Familie,Mit mehreren Leuten/wenn Besuch kommt
LOCATION:Grundschule in Hansahlen\, Am Jordan 7-9\, Schneverdingen\, 29640\
 , Deutschland
X-APPLE-STRUCTURED-LOCATION;VALUE=URI;X-ADDRESS=Am Jordan 7-9\, Schneverdin
 gen\, 29640\, Deutschland;X-APPLE-RADIUS=100;X-TITLE=Grundschule in Hansah
 len:geo:0,0
END:VEVENT
END:VCALENDAR