BEGIN:VCALENDAR
VERSION:2.0
PRODID:-//wp-events-plugin.com//7.2.3.1//EN
BEGIN:VEVENT
UID:7147@kulturverein-schneverdingen.de
DTSTART:20240418T170000Z
DTEND:20240418T193000Z
DTSTAMP:20240416T123856Z
URL:https://kulturverein-schneverdingen.de/events/talkin-about-my-generati
 on-pink-floyd/
SUMMARY:Kultlegenden & Friends - Talkin' bout my generation: Pink Floyd
DESCRIPTION:Mit ihrer Musik\, den Klängen und der visuellen Gestaltung ihr
 er Platten und Bühnenauftritte schuf die britische Rockband „Pink Floyd
 “ einen unverwechselbaren und seinerzeit völlig neuartigen Stil\, der v
 on großem kommerziellem Erfolg gekrönt war. Und sie schufen legendäre A
 lben wie „The Wall“\, „Whish you were here“ und – gerade 50 Jahr
 e jung geworden – „The dark side oft he Moon“\, die allesamt Klassik
 er der Musikgeschichte wurden.\n\nIm Rahmen der Reihe „Talkin‘ bout my
  generation“ wollen Bobby Meyer und Luffy Lüdemann erneut eine Superban
 d unter die Lupe nehmen und deren Geschichte ihren Gästen interaktiv näh
 er bringen.\n\nEs ist viele Jahre her\, dass der Text des Liedes „Anothe
 r brick in the wall“ mit der Zeile „We don't need no education“ die 
 Herzen von Millionen Schülern berührte. Den Lehrkräften tat Songschreib
 er\, Sänger und Gitarrist Roger Waters mit seiner Kritik am Bildungs-Esta
 blishment sicherlich nicht unbedingt einen Gefallen. Die Platte wurde ein 
 Millionenerfolg und ist es immer noch.\n\nAuf jeden Fall wird es wieder ei
 n kurzweiliger und abwechslungsreicher Abend mit Bildern\, Fernseh- und Ko
 nzertaufnahmen\, Platten werden aufgelegt\, es gibt Raterunden und Thomas 
 Voss wird live Songs von Pink Floyd auf der Gitarre spielen und interpreti
 eren.\n\n„Und wir werden viele Fragen an diesem Abend beantworten“\, v
 erspricht Bobby Meyer. Wer ist bloß diese Pink? Wer ist Emily? Und was is
 t mit Arnold Layne? Und warum hat Bobby trotz Eintrittskarte Pink Floyd 19
 81 nicht gesehen?\n\nAußerdem werden Zeitzeugen gesucht: Wer hat Pink Flo
 yd mit THE WALL in Berlin gesehen?
ATTACH;FMTTYPE=image/jpeg:https://kulturverein-schneverdingen.de/wp-conten
 t/uploads/2024/01/10.png
CATEGORIES:Aktuell
LOCATION:Schafstall am Heidegarten\, Overbeckstraße 65\, Schneverdingen\, 
 29640\, Deutschland
GEO:53.116232;9.792344
X-APPLE-STRUCTURED-LOCATION;VALUE=URI;X-ADDRESS=Overbeckstraße 65\, Schnev
 erdingen\, 29640\, Deutschland;X-APPLE-RADIUS=100;X-TITLE=Schafstall am He
 idegarten:geo:53.116232,9.792344
END:VEVENT
END:VCALENDAR