BEGIN:VCALENDAR
VERSION:2.0
PRODID:-//wp-events-plugin.com//7.2.3.1//EN
BEGIN:VEVENT
UID:5666@kulturverein-schneverdingen.de
DTSTART:20200511T080000Z
DTEND:20200516T213000Z
DTSTAMP:20251120T080124Z
URL:https://kulturverein-schneverdingen.de/events/supergute-tage-2020/
SUMMARY:***Verlegt!*** 6. SuperGute Tage 2020
DESCRIPTION:***\n\nLiebe Besucher*innen unserer 6. Superguten Tage!\n\nAufg
 rund der aktuellen Entwicklung im Zusammenhang mit dem Coronavirus (COVID-
 19) haben wir uns schweren Herzens zur Absage der Superguten Tage durchger
 ungen.\nDie behördlichen Aufforderungen und erwarteten Anordnungen\, aber
  auch unsere gesellschaftliche Gesamtverantwortung lassen es unmöglich er
 scheinen\, die Veranstaltung in dieser Zeit vertretbar durchzuführen.\nWi
 r sind jedoch derzeit bemüht\, einzelne der kulturellen Veranstaltungen i
 m Herbst durchzuführen. Allerdings nicht zusammenhängend\, dafür vertei
 lt auf das Schneverdinger Stadtgebiet. Bereits gekaufte Tickets behalten i
 hre Gültigkeit.\nDie logistischen Planungen für eine Großveranstaltung 
 dieser Art bedeuten eine große Herausforderung\, die Rückabwicklung in n
 icht geringerem Maße. Es sind bereits Kosten angefallen\, einige Aufträg
 e nicht mehr zu annullieren. Die Situation aufgrund der Corona-Pandemie sp
 itzt sich für viele Akteure der Kulturszene dramatisch zu. Veranstaltunge
 n müssen abgesagt werden\, Einnahmen bleiben aus\, gleichzeitig sind bere
 its vertragliche\nVerpflichtungen eingegangen oder Ausgaben getätigt word
 en – und auch die laufenden Kosten bleiben. Nicht nur wirtschaftlich ges
 ehen werden wir alle vor eine große Herausforderung gestellt.\nUns liegt 
 am Herzen Sie über die geänderten Voraussetzungen zu informieren.\nAuch 
 für Rückfragen stehen wir gerne per mail kontakt@kulturverein-schneverdi
 ngen.de\nzur Verfügung.\n\nWir verbleiben mit den besten Grüßen\n\nIhr 
 Kulturverein Schneverdingen\n\n***\n\nProgramm Supergute Tage 2020 Web-4\n
 \n&nbsp\;
ATTACH;FMTTYPE=image/jpeg:https://kulturverein-schneverdingen.de/wp-conten
 t/uploads/2016/10/Zirkus.jpg
CATEGORIES:Aktuell,Archiv
LOCATION:Zirkuszelt an der Grundschule am Pietzmoor\, Ernst-Dax-Str. 5-7\, 
 Schneverdingen\, 29640\, Deutschland
X-APPLE-STRUCTURED-LOCATION;VALUE=URI;X-ADDRESS=Ernst-Dax-Str. 5-7\, Schnev
 erdingen\, 29640\, Deutschland;X-APPLE-RADIUS=100;X-TITLE=Zirkuszelt an de
 r Grundschule am Pietzmoor:geo:0,0
END:VEVENT
END:VCALENDAR