BEGIN:VCALENDAR
VERSION:2.0
PRODID:-//wp-events-plugin.com//7.2.3.1//EN
BEGIN:VEVENT
UID:8105@kulturverein-schneverdingen.de
DTSTART:20250816T170000Z
DTEND:20250816T193000Z
DTSTAMP:20250806T140323Z
URL:https://kulturverein-schneverdingen.de/events/stiftungskonzert-der-de-
 bruycker-stiftung-buergerstiftung-der-stadt-schneverdingen-2/
SUMMARY:Stiftungskonzert der de Bruycker-Stiftung\, Bürgerstiftung der Sta
 dt Schneverdingen
DESCRIPTION:Die „de Bruycker-Stiftung\, Bürgerstiftung der Stadt Schneve
 rdingen“ zeichnet jährlich herausragende Studierende der Musikhochschul
 e Hamburg mit ihrem Stiftungspreis aus. Des weiteren wird ein Preis an di
 e Heidekreiskreis-Musikschule vergeben.\nPreisträgerin 2025: Hongping Rua
 n\, SopranDie chinesische Sopranistin Hongping Ruan bekam bereits im Klein
 kindalter Klavierunterricht und sang von 2008 bis 2015 in einem Kinderchor
  ihrer Heimatstadt Hangzhou. Von 2017 bis 2019 wurde sie von der Musikakad
 emie an der Klosterschule Rosleben ausgebildet. Nach ihrem Abitur im Jahr 
 2019 folgte ein Gesangspädagogikstudium an der Hochschule für Musik\, Th
 eater und Medien Hannover. Seit 2021 studiert Hongping Ruan Bachelor Gesan
 g an der Hochschule für Musik und Theater Hamburg bei Prof. Carolyn Grace
  James. Während ihrer Zeit in Hamburg hatte sie die Möglichkeit\, mit de
 r Staatsoper Hamburg zusammenzuarbeiten und dabei als Frasquita in der Ope
 rnproduktion Carmen zu debutieren. Außerdem sang sie 2023 die Hauptrolle 
 bei der Uraufführung der zeitgenössischen Oper "Frau Kempelens Sprechmas
 chinen" an der HfMT Hamburg. Im Herbst 2024 gab Hongping Ruan ihr Hausdeb
 üt an der Staatsoper Hamburg\, sie übernahm wieder die Rolle der Frasqui
 ta. Anschließend sang sie in der gleichen Rolle zusammen mit der Staatsop
 er Hamburg eine Carmen-Tournee in China.Hongping Ruan erhielt den 1. Preis
  beim "Mozartpreis-Wettbewerb 2023" der Absalom-Stiftung sowie den 2. Prei
 s beim "Elise-Meyer Gesangswettbewerb 2023" der Elise Meyer Stiftung. Dar
 über hinaus gewann sie 2024 den 3. Liedduopreis sowie einen Sonderpreis f
 ür Liedduo beim „Gustav Mahler Wettbewerb 2024“ der ROCHNA-Stiftung. 
 Außerdem nahm sie an verschiedenen Meisterkursen von Helmut Deutsch\, Ann
 a Samuil und Robin Guarino teil. Bei dem internationalen Gesangswettbewerb
  „Lav Mirski“ 2024 in Kroatien gewann sie den 1. Preis und den Sonderp
 reis. Sie konzertiert regelmäßig bei Liederabenden und Klassenkonzerten 
 an der HfMT Hamburg. Darüber hinaus erhält Hongping Ruan weitere musikal
 ische Impulse von Burkhard Kehring\, Dörte Blase\, Barbara Bonney\, Ira H
 ochmann und Chris Squires.Die Preisverleihung mit Konzertumrahmung findet 
 in diesem Jahr letztmalig im Atelier de Bruycker statt und wird ab 2026 im
  neuen Kulturhaus in der Stadtmitte organisiert.\nEintritt: VVK 20 € TK 
 25 € zzgl. Bearbeitungsgebühren\n\n\n\n\n\nFoto: Taizhi Shao
ATTACH;FMTTYPE=image/jpeg:https://kulturverein-schneverdingen.de/wp-conten
 t/uploads/2025/04/K_nstlerfoto-2-c.-Taizhi-Shao.jpg
CATEGORIES:Abends,Aktuell,Anlass/Voraussetzung,Archiv,Begegnungen/zusammen
 sein,Kommende Veranstaltungen,Konzert,Mit der Familie,Mit mehreren
 Leuten/wenn Besuch kommt,Tageszeit,Veranstaltungsart
LOCATION:Atelier de Bruycker\, Höpen 4\, Schneverdingen\, 29640\, Deutschl
 and
GEO:53.136216;9.798345599999948
X-APPLE-STRUCTURED-LOCATION;VALUE=URI;X-ADDRESS=Höpen 4\, Schneverdingen\,
  29640\, Deutschland;X-APPLE-RADIUS=100;X-TITLE=Atelier de Bruycker:geo:53
 .136216,9.798345599999948
END:VEVENT
END:VCALENDAR