BEGIN:VCALENDAR
VERSION:2.0
PRODID:-//wp-events-plugin.com//7.2.3.1//EN
BEGIN:VEVENT
UID:6580@kulturverein-schneverdingen.de
DTSTART:20230812T173000Z
DTEND:20230812T211500Z
DTSTAMP:20230807T201817Z
URL:https://kulturverein-schneverdingen.de/events/sommer-im-biergarten/
SUMMARY:Sommer im Biergarten 2023: Open-Air-Kino und Musik
DESCRIPTION:Liebe Musik- und Kinofreunde\,\nfür unsere diesjährige Verans
 taltungsreihe „Sommer im Biergarten“ wünschen wir uns nicht nur trock
 ene Sonnabende und sommerliche Temperaturen\, wir wünschen uns noch viel 
 mehr Frieden und endlich wieder gemütliche Runden mit unseren Freunden im
  Biergarten.\nZusammen mit dem Verein LichtSpiel e.V. und dem Biergarten a
 m Rathaus präsentieren wir Euch an 2 Samstagen im August ein stimmiges Un
 terhaltungsprogramm unter freiem Himmel. Unser Wirt vom Biergarten am Rath
 aus\, Peter Springhorn\, versorgt Euch mit leckeren Speisen und Getränken
 \, der Kulturverein kümmert sich um die Live-Musik und das LichtSpiel zei
 gt zwei fantastische Kinofilme\, die für laue Kinoabende in gemütlicher 
 Biergartenatmosphäre gemacht sind.\nAb 19.30 Uhr beginnen die Musiker auf
  der Bühne und nach einer kurzen Umbaupause\, gegen 21.30\, startet die F
 ilmvorführung.\nAbends wird es kühler. Bitte bringt Euch warme Klamotten
  und – je nach Wetterlage – Regenkleidung mit.\nIhr Kulturverein Schne
 verdingen\, Kinoverein LichtSpiel und der Biergarten am Rathaus wünschen 
 allen Gästen viel Spaß und natürlich einen Super-Sommer.     \nWir 
 starten den Abend mit Blues-Rockmusik von der "Voodoo Hoodoo Blues Club "\
 nDie Band hat sich 2015 gegründet und hat sich mit den bisherigen Veröff
 entlichungen „Welcome To My Club“ (2016 Single Coil Music) und „Woun
 ds and Scars“ (2018 Single Coil Music/Timezone) zu einem Bluesrock-Act a
 uf internationalem Niveau entwickelt.\n\nHierzu trugen auch die Support-Gi
 gs für die texanische Kultband Tito &amp\;Tarantula sowie umjubelte Gigs 
 in vielen legendären Blues-Clubs des Landes bei\, darunter der Kaiserkell
 er in Detmold\, der Lagerhalle in Osnabrück oder dem Meisenfrei in Bremen
 . Positive bis überschwengliche Reviews z.B. in der Szene-Bibel „BluesN
 ews“ bestätigten diesen Eindruck.\nMittlerweile spielt die Band als ech
 tes Power-Trio: ehrlich und handgemacht. Bluesrock\, der alte Helden ehrt 
 und sich Neues traut\, irgendwo in einer Schnittmenge aus ZZ Top\, Stevie 
 Ray Vaughanund modernen Vertretern wie Gary Clarke Jr. oder den RivalSons\
 nIm Herbst 2022 erschien die vielbeachtete "Autumn Session"\, eine exclusi
 ve Youtube-Session mit vier brandneuen Songs des Clubs. Hierbei wurde der 
 Schwerpunkt noch mehr auf eingängiges Songwriting und Feeling pur gelegt!
 \nWer diese Hochkaräter einmal gehört hat\, bekommt sie so schnell nicht
  mehr aus dem Kopf!!\nBesonders freuen wir uns auf Jan David\, unser Local
  Hero bei Goodwill Intent\, mal in anderer Besetzung und mit anderer Mucke
 .\nIn diesem Sinne: BLUESROCK\, BABY!!\nAb 21.30 folgt \nGlück auf einer 
 Skala von 1 bis 10\n\nIgor (Alexandre Jollien) kann so schnell eigentlich 
 nichts aus der Ruhe bringen. Aufgrund seiner Behinderung ist er oftmals al
 lein\, kann sich dank seines Jobs als Fahrradkurier für Biogemüse nicht 
 beschweren. Doch Freunde hätte er schon ganz gern. Im Gegensatz dazu steh
 t Louis (Bernard Campan)\, der viele Jahre seines Lebens seinem Bestattung
 sunternehmen untergeordnet hat\, wodurch sein Privatleben litt. Als Louis 
 Igor auf seinem Fahrrad anfährt\, tut ihm dies schrecklich leid. Igor hin
 gegen sieht eine Chance: Er möchte Louis als Freund gewinnen.\n\nAls Loui
 s sich zu einer längeren Geschäftsreise in seinem Leichenwagen mitsamt L
 eiche aufmacht\, versteckt sich Igor kurzerhand im Kofferraum und fährt m
 it. Auf dem Weg zur Bestattung sprechen die beiden nicht nur über ihre Le
 bensansichten\, sondern auch darüber\, was es bedeutet glücklich zu sein
 . Am Ende des Weges merken sie nicht nur\, dass sie gar nicht so unterschi
 edlich sind\, sondern das Freundschaften zusammenschweißen können.\n\nFr
 ankreich/Schweiz 2021\nRegie: Alexandre Jollien\, Bernard Campan\nDarstell
 er: Bernard Campan\, Alexandre Jollien\, Tiphaine Daviot\, Julie-Anne Roth
 \, La Castou\, Marie Benati\, Marilyne Canto\, Anne-Valerie Payet\nEintrit
 t: 12\,50 € (Ermäßigungen für Mitglieder des Kulturvereins und LichtS
 piels)\nEinlass ist ab 19 Uhr.\nDie Veranstaltung ist eine Kooperation vom
  Kulturverein Schneverdingen\, LichtSpiel Schneverdingen und dem Biergarte
 n am Rathaus. \nUnterstützt werden wir von unserem langjährigen Veranst
 altungspartner\, dem SPD Ortsverein.
ATTACH;FMTTYPE=image/jpeg:https://kulturverein-schneverdingen.de/wp-conten
 t/uploads/2021/12/SiB054-scaled.jpg
CATEGORIES:Abends,Aktuell,Anlass/Voraussetzung,Archiv,Barrierefrei,Begegnu
 ngen/zusammen sein,Kommende Veranstaltungen,Mit der Familie,Mit mehreren
 Leuten/wenn Besuch kommt,Open Air,Tageszeit,Veranstaltungsart
LOCATION:Biergarten am Rathaus\, Marktstraße 4\, Schneverdingen\, 29640\, 
 Deutschland
GEO:53.1190757;9.785757500000045
X-APPLE-STRUCTURED-LOCATION;VALUE=URI;X-ADDRESS=Marktstraße 4\, Schneverdi
 ngen\, 29640\, Deutschland;X-APPLE-RADIUS=100;X-TITLE=Biergarten am Rathau
 s:geo:53.1190757,9.785757500000045
END:VEVENT
END:VCALENDAR