BEGIN:VCALENDAR
VERSION:2.0
PRODID:-//wp-events-plugin.com//7.2.3.1//EN
BEGIN:VEVENT
UID:6175@kulturverein-schneverdingen.de
DTSTART:20200801T180000Z
DTEND:20200801T213000Z
DTSTAMP:20200728T073349Z
URL:https://kulturverein-schneverdingen.de/events/sommer-im-biergarten-por
 tland-rockt-und-filmkomoedie-25km-h/
SUMMARY:*Ausverkauft!* Sommer im Biergarten: "Portland" rockt und Filmkomö
 die "25 Km/h"
DESCRIPTION:Liebe Musik- und Kinofreunde\,\n\nunsere beliebte Veranstaltung
 sreihe „Sommer im Biergarten“ geht schon in die 10. Spielzeit. Zusamme
 n mit dem Verein LichtSpiel e.V. und dem Biergarten am Rathaus in Schnever
 dingen präsentieren wir an zwei Samstagen im Sommer ein tolles Unterhaltu
 ngsprogramm unter freiem Himmel.\n\nUnser Wirt vom Biergarten\, Peter Spri
 nghorn\, versorgt unsere Gäste mit leckeren Speisen und Getränken. In di
 esem Jahr werden Live-Musik und Kinofilme geboten.\n\nAb 20 Uhr beginnen d
 ie Acts auf der Bühne und nach einer kurzen Umbaupause\, mit Einbruch der
  Dunkelheit\, startet die Filmvorführung. Bei den Bühnenshows wird viel 
 Wert auf unterschiedliche Stilrichtungen gelegt\, und es wurden Filmtitel 
 ausgewählt\, die in diesem Frühjahr im Kino Lichtspiel bereits erfolgrei
 ch gelaufen waren und weiterhin so stark nachgefragt sind\, dass sie nochm
 als gezeigt werden müssen.\n\nIhr Kulturverein Schneverdingen\, Kinoverei
 n LichtSpiel und der Biergarten am Rathaus wünschen beste Unterhaltung un
 d natürlich einen Super-Sommer.\n\nAufgrund der andauernden Corona-Pandem
 ie sind die zum Zeitpunkt der Veranstaltung geltenden Maßnahmen gegen die
  Ausbreitung des Corona-Virus zu beachten.\n\nAls Partner beim Sommer im B
 iergarten 2020 freuen wir uns über den SPD Ortverein Schnverdingen und be
 danken uns für seine Unterstützung.\n\nProgrammheft Sommer im Biergarten
  2020\nSamstag\, 1. August\, Live Musik und Open Air Kino\nRockmusik mit 
 „Portland“ \nPortland gründete sich im Jahre 2005\, ihre Musik wird 
 beeinflusst von der Rockmusik der letzten Jahrzehnte. Sie bringen von der 
 Akustik-Ballade bis zur harten Rocknummer so ziemlich alles aus diesem Gen
 re auf die Bühne. Dabei begeistern sie ihr Publikum ausschließlich mit e
 igenen Kompositionen\, die genauso in den Kopf wie in die Beine gehen. Ins
 ider kennen die Band von Festivals und Club-Gigs\, wobei die Band immer 10
 0% gibt. Sie stehen für authentischen\, emotionalen Rock\, vorgetragen mi
 t viel Spielfreude und Hingabe\, beste Stimmung ist garantiert! Portland s
 ind: Mr. Joe (Joachim Scheller) Gesang\, Gitarrist Ente (Claus Krüger)\,
   Uwe Meitzner am Bass und Okka (Oskar Eckert) an den Drums.\n\n\nNach Ei
 nbruch der Dunkelheit zeigen wir den preisgekrönten Film:\n25 km/h - Kom
 ödie mit den Hauptdarstellern\nLars Eidinger und Bjarne Mädel\n(D\, 2018
 \; 116 Min.\, FSK ab 6 freigegeben)\n\nNach dreißig Jahren treffen die Br
 üder Christian und Georg auf der Beisetzung ihres Vaters das erste Mal wi
 eder aufeinander. Ihre Unstimmigkeiten nach einer handfesten Auseinanderse
 tzung klären sie bei einem gemeinsamen Besäufnis. Christian erinnert sic
 h im Rausch an einen alten Plan der beiden\, mit ihren Mofas wollten die d
 amals 15 Jährigen an die Ostsee fahren. Vom Alkohol benebelt\, brechen si
 e spontan mit den uralten\, klapperigen Mofas auf\, um Verlorenes nachzuho
 len. Auf ihrem Trip durch Deutschland kommen sie einander\, vor allem aber
  sich selbst\, näher. Klischeehaft\, aber auch klassisch ist der Ansatz v
 on Markus Gollers sehr langsamen Road-Movie „25 km/h“\, das von seiner
  entspannten Gangart und den ebenso entspannten\, sympathischen Hauptdarst
 ellern lebt.\nRegie: Markus Goller\, Drehbuch Oliver Ziegenbalg\nWeitere D
 arsteller: Sandra Hüller\, Jella Haase\, Franka Potente\, Alexandra Maria
  Lara\, Wotan Wilke Möhring\, Jördis Triebel.\nFSK 16\, Spielzeit: 116 M
 inuten\n\nBeginn 20:00 Uhr\, Einlass 18:30 Uhr\n\nDie Ticketanzahl ist auf
 grund der Corona-Regeln begrenzt.\nDie Veranstaltung ist ausverkauft.\n\nG
 emeinsam mit LichtSpiel e.V. und dem Biergarten am Rathaus.
ATTACH;FMTTYPE=image/jpeg:https://kulturverein-schneverdingen.de/wp-conten
 t/uploads/2019/12/SiB054-scaled.jpg
CATEGORIES:Aktuell,Archiv
LOCATION:Biergarten am Rathaus\, Marktstraße 4\, Schneverdingen\, 29640\, 
 Deutschland
GEO:53.1190757;9.785757500000045
X-APPLE-STRUCTURED-LOCATION;VALUE=URI;X-ADDRESS=Marktstraße 4\, Schneverdi
 ngen\, 29640\, Deutschland;X-APPLE-RADIUS=100;X-TITLE=Biergarten am Rathau
 s:geo:53.1190757,9.785757500000045
END:VEVENT
END:VCALENDAR