BEGIN:VCALENDAR
VERSION:2.0
PRODID:-//wp-events-plugin.com//7.2.3.1//EN
BEGIN:VEVENT
UID:6366@kulturverein-schneverdingen.de
DTSTART:20210724T180000Z
DTEND:20210724T213000Z
DTSTAMP:20210724T131312Z
URL:https://kulturverein-schneverdingen.de/events/sommer-im-biergarten-ope
 n-air-kino/
SUMMARY:Sommer im Biergarten: Open Air Kino und Songcontest
DESCRIPTION:Liebe Musik-\, Kleinkunst-\, Kino- und Biergartenfreunde\,\nuns
 ere beliebte Veranstaltungsreihe „Sommer im Biergarten“ geht schon in 
 die 11. Spielzeit. Zusammen mit dem Verein LichtSpiel e.V. und dem Biergar
 ten am Rathaus in Schneverdingen präsentieren wir den Sommer über wieder
  ein abwechslungsreiches Unterhaltungsprogramm unter freiem Himmel. Dabei 
 kann es auch schon mal kalt werden. Bringt Euch vorsorglich warme Klamotte
 n und Decken mit.\nUnd damit niemand hungert oder dürstet wird uns unser 
 Wirt Peter Springhorn wieder mit leckeren Speisen und Getränken verwöhne
 n.\nWir werden uns nach den geltenden Regeln der Covid-19-Pandemie richten
  müssen. Veranstaltungen\, die aus diesem Grund oder aus witterungstechni
 schen Gründen ausfallen\, werden nicht nachgeholt und das Eintrittsgeld w
 ird nicht ersetzt.\nWir möchten uns bei dem Ortsverein der SPD Schneverdi
 ngen und der Volksbank Lüneburger Heide eG bedanken\, deren Unterstützun
 g Veranstaltungen wie diese für uns erst möglich machen.      \nAb 20
  Uhr (Einlass ab 18.30 Uhr)\nLindenberg! Mach Dein Ding – Songcontest f
 ür regionale Musiker*innen \nDas Aufwärmprogramm für unseren heutigen K
 inofilm hat´s wirklich in sich\, diese einmalige Show solltet Ihr auf kei
 nen Fall verpassen: Wir haben zu einem "Udo Lindenberg“-Songcontest aufg
 erufen und unsere regionalen Sing&amp\;Song-Writer und Bands treten gegene
 inander an. Mit Marco Eggersglüß\, Kai Horn\, Kellerproduktion\, Caschi\
 , Jan Holste\, Stina &amp\; Marcel und Goodwill Intent haben wir großarti
 ge Local Heros am Start.  \nJede Künstlerin\, jeder Künstler und jede B
 and wird einen Song von Udo Lindenberg interpretieren und vorspielen. Lass
 t Euch überraschen. Dabei sind Songs wie "Hoch im Norden"\, "Sonderzug na
 ch Pankow" und natürlich "Mein Ding".\nAm Ende und vor dem nachfolgenden 
 Udo-Film wollen wir auch von Euch wissen\, welche Interpretation und Perfo
 rmance Euch am besten gefallen hat. Dafür können alle Gäste mit abstimm
 en.\nFür den besten Auftritt gibt es 300\,- €\, für den 2. Platz 150 
 € und der 3. bekommt 100 €.\n\n[caption id="attachment_15280" align="a
 lignnone" width="300"] Jan Holste[/caption] [caption id="attachment_6151" 
 align="alignnone" width="300"] Kellerproduktion[/caption] [caption id="att
 achment_14509" align="alignnone" width="233"] Jan Lohmann Goodwill Intent)
 [/caption] [caption id="attachment_5415" align="alignnone" width="225"] Ma
 rco Eggersglüß[/caption] [caption id="attachment_5575" align="alignnone"
  width="199"] Benni Ziel (Goodwill Intent)[/caption]\n\n&nbsp\;\n\n\nAnsch
 ließend bei Einbruch der Dunkelheit zeigen wir\n\n\n\nIhr Kulturverein Sc
 hneverdingen\, Kinoverein LichtSpiel und der Biergarten am Rathaus wünsch
 en beste Unterhaltung und natürlich einen Super-Sommer.\n\n[caption id="a
 ttachment_16537" align="alignnone" width="300"] Besser mit dem Fahrrad kom
 men[/caption]\n\nTickets\nVVK  12 €  Tageskasse 15 €\nBeginn 20:00 U
 hr\, Einlass 18:30 Uhr\nGemeinsam mit LichtSpiel e.V. (www.lichtspiel-schn
 everdingen.de)\, dem Biergarten am Rathaus (www.biergarten-schneverdingen.
 de)\, der Volksbank Lüneburger Heide eG und dem Ortsverein der SPD.\n \n\
 n&nbsp\;\n
ATTACH;FMTTYPE=image/jpeg:https://kulturverein-schneverdingen.de/wp-conten
 t/uploads/2020/12/Udo-1.jpg
CATEGORIES:Abends,Aktuell,Kommende Veranstaltungen,Konzert,Mit mehreren
 Leuten/wenn Besuch kommt,Open Air,Sonstiges
LOCATION:Biergarten am Rathaus\, Marktstraße 4\, Schneverdingen\, 29640\, 
 Deutschland
GEO:53.1190757;9.785757500000045
X-APPLE-STRUCTURED-LOCATION;VALUE=URI;X-ADDRESS=Marktstraße 4\, Schneverdi
 ngen\, 29640\, Deutschland;X-APPLE-RADIUS=100;X-TITLE=Biergarten am Rathau
 s:geo:53.1190757,9.785757500000045
END:VEVENT
END:VCALENDAR