BEGIN:VCALENDAR
VERSION:2.0
PRODID:-//wp-events-plugin.com//7.2.3.1//EN
BEGIN:VEVENT
UID:6903@kulturverein-schneverdingen.de
DTSTART:20230721T170000Z
DTEND:20230721T200000Z
DTSTAMP:20230525T132234Z
URL:https://kulturverein-schneverdingen.de/events/sixtyfive-cadillac-die-h
 igh-energie-soul-show/
SUMMARY:Snevern Live: Sixtyfive Cadillac - Die High Energie Soul Show
DESCRIPTION:Das Konzert-Highlight in diesem Sommer - Live im Biergarten am 
 Rathaus\nAus verschiedenen Ländern\, aus Deutschland\, den Niederlanden\,
  aus Griechenland\, Polen und aus China\, der Jüngste ist Anfang 20\, der
  Älteste über 60 Jahre alt\, vom examinierten Vollprofi bis zu enthusias
 tischen Autodidakten\, aus den verschiedensten Musikgenres\, vom Jazz bis 
 zum Funk\, vom Punk bis Heavy Metal\, vom Reggae und auch aus der Klassik 
 kommen sie zusammen.\nWo andere fragen\, ob das überhaupt funktionieren k
 ann\, hält sich SIXTYFIVE CADILLAC gar nicht erst mit derlei Überlegunge
 n auf\, sondern lässt die musikalischen Energien auf der Bühne hemmungsl
 os aufeinanderprallen. Das Publikum merkt schnell: das hier ist kein simpl
 es Konzert\, das ist Hochleistungssport\, Action\, Geschwindigkeit\, härt
 er\, schneller\, wilder und bestimmt nichts für empfindliche Ohren. Das i
 st die heißeste Bluesband östlich von Chicago und diesseits des Urals\, 
 SIXTYFIVE CADILLAC mit ihrer High Energy Soul Show\, das norddeutsche Live
 -Wunder.\nIn Hunderten von Konzerten in Polen\, Luxemburg und Deutschland 
 hat die Band ihr Erfolgsrezept verinnerlicht. Erbarmungslos folgen Schlag 
 auf Schlag Hits aus den Sechzigern und Siebzigern\, im eigenen Arrangement
 \, aufgepeppt durch die musikalische Vitaminspritze gegenwärtiger Spielau
 ffassungen. Soul\, Funk und Blues erwiesen sich als zündender Treibstoff.
  Der Preis dafür sind regelmäßig verschwitzte\, am Rande des Zusammenbr
 uchs stehende\, aber begeisterte Fans. Denn warum sollte das Publikum weni
 ger geben als die Band? Und die gibt bei jedem Auftritt alles. Darauf kann
  man sich verlassen.\nPresse-Echo…\n… eine wilde Bühnenshow mit einer
  der heißesten und temporeichsten Live-Acts des Nordens ...\nein absolute
 r Top-Act ... Live-Musik\, wie man sie sich wünscht ... kein simples Konz
 ert\, sondern eine schweißtreibende Fete ... das High Energy Programm der
  10-köpfigen Band ist nur den Hörern zu empfehlen\, denen Kreislaufprobl
 eme und erhöhte Ozonwerte noch nicht geläufig sind ... einer der besten 
 Live-Acts Norddeutschlands ... die heißeste Bluesband östlich von Chicag
 o ... die Live-Performance von SIXTYFIVE CADILLAC war einfach genial...\nE
 intritt: VVK 20 €/ TK  24 €
ATTACH;FMTTYPE=image/jpeg:https://kulturverein-schneverdingen.de/wp-conten
 t/uploads/2023/04/Sixtyfive-Cadillac-2019-scaled.jpg
CATEGORIES:Abends,Aktuell,Anlass/Voraussetzung,Archiv,Barrierefrei,Begegnu
 ngen/zusammen sein,Bei Regenwetter,Kommende Veranstaltungen,Konzert,Mit
 der Familie,Mit mehreren Leuten/wenn Besuch
 kommt,Tageszeit,Veranstaltungsart
LOCATION:Biergarten am Rathaus\, Marktstraße 4\, Schneverdingen\, 29640\, 
 Deutschland
GEO:53.1190757;9.785757500000045
X-APPLE-STRUCTURED-LOCATION;VALUE=URI;X-ADDRESS=Marktstraße 4\, Schneverdi
 ngen\, 29640\, Deutschland;X-APPLE-RADIUS=100;X-TITLE=Biergarten am Rathau
 s:geo:53.1190757,9.785757500000045
END:VEVENT
END:VCALENDAR