BEGIN:VCALENDAR
VERSION:2.0
PRODID:-//wp-events-plugin.com//7.2.3.1//EN
BEGIN:VEVENT
UID:6359@kulturverein-schneverdingen.de
DTSTART:20201205T160000Z
DTEND:20201205T191500Z
DTSTAMP:20240121T074609Z
URL:https://kulturverein-schneverdingen.de/events/pop-up-kultur-adventseve
 nt/
SUMMARY:Pop-Up-Kultur-AdventsEvent
DESCRIPTION:Am Samstag\, den 5. Dezember gibt es ab 18 Uhr besinnliche Musi
 k\, Tannenbaum\, Deko und Information mitten im Stadtzentrum rund um die "
 Alte Schlachterei"\, Am Markt 2.\n\nVor der "Alten Schlachterei" bieten wi
 r Informationen zum geplanten Bau des Kulturhauses mit Präsentation des I
 magefilms. Hier werden auch Getränke angeboten.\n\nTannenbaum und Strohba
 llen (auf Abstand) sorgen für gemütliches Ambiente.\n\nBitte bringen Sie
  möglichst das Kontaktformular schon fertig ausgefüllt mit zu der Verans
 taltung und wir sparen uns die Formalitäten vor Ort und entzerren den Ein
 gangsbereich.\n\nEs handelt sich um eine Open-Air-Veranstaltung. Sorgen Si
 e für wetterentsprechende Kleidung. Für warme Getränke sorgen wir.\n\nE
 intritt frei!
CATEGORIES:Aktuell,Archiv
LOCATION:Kulturhaus "Alte Schlachterei"\, Am Markt 2 \, Schneverdingen\, 29
 640\, Deutschland
GEO:53.115125;9.791724
X-APPLE-STRUCTURED-LOCATION;VALUE=URI;X-ADDRESS=Am Markt 2 \, Schneverdinge
 n\, 29640\, Deutschland;X-APPLE-RADIUS=100;X-TITLE=Kulturhaus \"Alte Schla
 chterei\":geo:53.115125,9.791724
END:VEVENT
END:VCALENDAR