BEGIN:VCALENDAR
VERSION:2.0
PRODID:-//wp-events-plugin.com//7.2.3.1//EN
BEGIN:VEVENT
UID:9791@kulturverein-schneverdingen.de
DTSTART:20261107T120000Z
DTEND:20261107T193000Z
DTSTAMP:20251204T151721Z
URL:https://kulturverein-schneverdingen.de/events/plattsounds-2026/
SUMMARY:Plattsounds 2026
DESCRIPTION:\nAuch 2026 findet wieder der Bandwettbewerb "Plattsounds" in N
 iedersachsen statt. Der Bandwettbewerb ist ein Kooperationsprojekt von neu
 n Landschaften und Landschaftsverbänden aus Niedersachsen. Gefördert wir
 d der Wettbewerb vom Niedersächsischen Ministerium für Wissenschaft und 
 Kultur.Dieses Jahr wird der Wettebwerb vom Lüneburgischen Landschaftsverb
 and ausgerichtet. Das Finale findet am 07. November 2026 im Kulturhaus "Al
 te Schlachterei" in Schneverdingen statt.Das Genre spielt dabei keine Roll
 e\, denn das musikalische Spektrum ist vielfältig: Musikrichtungen wie Ro
 ck\, Pop\, Hip-Hop\, Elektro\, Punk\, Singer Songwriter und viele weitere 
 mehr waren in vergangenen  "Plattsounds" Veranstaltungen bereits vertreten
 .\n\n\n\n\n
CATEGORIES:Abends,Aktuell,Anlass/Voraussetzung,Archiv,Barrierefrei,Bei
 Regenwetter,Kommende Veranstaltungen,Konzert,Mit der Familie,Mit mehreren
 Leuten/wenn Besuch kommt,Sonstiges,Tageszeit,Tagsüber,Veranstaltungsart
LOCATION:Kulturhaus "Alte Schlachterei"\, Am Markt 2 \, Schneverdingen\, 29
 640\, Deutschland
GEO:53.115125;9.791724
X-APPLE-STRUCTURED-LOCATION;VALUE=URI;X-ADDRESS=Am Markt 2 \, Schneverdinge
 n\, 29640\, Deutschland;X-APPLE-RADIUS=100;X-TITLE=Kulturhaus \"Alte Schla
 chterei\":geo:53.115125,9.791724
END:VEVENT
END:VCALENDAR