BEGIN:VCALENDAR
VERSION:2.0
PRODID:-//wp-events-plugin.com//7.2.3.1//EN
BEGIN:VEVENT
UID:9830@kulturverein-schneverdingen.de
DTSTART:20260524T090000Z
DTEND:20260524T120000Z
DTSTAMP:20260121T133324Z
URL:https://kulturverein-schneverdingen.de/events/pfingst-fruehschoppen-mi
 t-les-enfants-du-jazz-3/
SUMMARY:Pfingst-Frühschoppen mit „Les Enfants du Jazz“
DESCRIPTION:Pfingst-Frühschoppen mit „Les Enfants du Jazz“\nTraditions
 reiche Oldtime-Jazz-Band in der Rathaus-Passage.\nEine erste Dixieland-Ban
 d unter diesem Namen gab es in Hamburg bereits während der späten Fünfz
 igerjahre von 1958 bis 1967. Der Vorschlag\, einen französischen Namen zu
  wählen\, stammte von dem damaligen Posaunisten Michael „Mike“ Först
 er. Der Aufmerksamkeitswert dieses Namens war groß\, da alle anderen Band
 s englische Namen hatten. Deshalb\, und weil das alte Schild zur Beschrift
 ung der Basstrommel noch existierte\, hat man bei der Neugründung in den 
 Siebzigerjahren den alten Namen wieder aktiviert.\nGespielt wird ein frisc
 her swingender Dixieland-Jazz\, wie er in der Zeit des Dixieland-Revival z
 um Ende der Fünfzigerjahre bei uns durch „Chris Barbers Jazzband“\, 
 „Papa Bues Viking Jazzband“\, die „Dutch-Swing-College-Band “ und 
 andere bekannt wurde. Die Themen reichen von Ellingtons „Stevedore Stomp
 “ über den „Tennessee Waltz“ und Hodges „Sweeping The Blues Away
 “ bis hin zu traditionellen Ohrwürmern wie „Bugle Boy March“ und 
 „Everybody Loves Saturday Night“.\nDurch die Besetzung in der Rhythmus
 gruppe mit Bass\, Banjo und Schlagzeug bleibt der Rhythmus flexibel\, durc
 hsichtig und swingend. Wir achten ganz besonders darauf\, dass nicht jeder
  so laut spielt\, wie er kann. Vielmehr hört jeder auf den anderen. So er
 geben sich Chorusse im Piano und Pianissimo nach denen es im Crescendo im 
 Kollektiv dann so richtig abgehen kann.\nAls Ergebnis präsentiert sich di
 e Band mit einem in Hamburg unverwechselbaren eigenen Sound. Der Einsatz v
 on Verstärkern beschränkt sich auf die Vocal-Chorusse und die Unterstüt
 zung für schwierige akustische Verhältnisse oder große Auditorien. Auch
  der Kontra-Bass kommt in kleineren Räumen ohne Verstärker aus. So kann 
 man durchaus von „handgemachtem Jazz“ sprechen.\nLos geht’s Pfingsts
 onntag\, 24.05.2026 ab 11 Uhr in der Rathaus-Passage Schneverdingen. Eine 
 Veranstaltung in Kooperation mit dem La Habana und dem Kulturverein Schnev
 erdingen. Der Eintritt ist frei.\nFoto: „Les Enfants du Jazz“ (Cotton 
 Club\, 2015\, Hamburg)\n&nbsp\;\n\n&nbsp\;
ATTACH;FMTTYPE=image/jpeg:https://kulturverein-schneverdingen.de/wp-conten
 t/uploads/2023/05/cropped-Les-Enfants-fuer-Webseite.jpg
CATEGORIES:Aktuell,Anlass/Voraussetzung,Archiv,Barrierefrei,Begegnungen/zu
 sammen sein,Bei Regenwetter,Eintritt frei,Kommende
 Veranstaltungen,Kunst,Mit der Familie,Mit mehreren Leuten/wenn Besuch
 kommt,Tageszeit,Tagsüber,Veranstaltungsart
LOCATION:La Habana\, Rathauspassage 2\, Schneverdingen\, 29640\, Deutschlan
 d
GEO:53.1162319;9.792343599999981
X-APPLE-STRUCTURED-LOCATION;VALUE=URI;X-ADDRESS=Rathauspassage 2\, Schnever
 dingen\, 29640\, Deutschland;X-APPLE-RADIUS=100;X-TITLE=La Habana:geo:53.1
 162319,9.792343599999981
END:VEVENT
END:VCALENDAR