BEGIN:VCALENDAR
VERSION:2.0
PRODID:-//wp-events-plugin.com//7.2.3.1//EN
BEGIN:VEVENT
UID:6374@kulturverein-schneverdingen.de
DTSTART:20200501T093000Z
DTEND:20200501T103000Z
DTSTAMP:20240121T074606Z
URL:https://kulturverein-schneverdingen.de/events/offene-werkraeume-auftak
 t-mit-susanne-ziegele/
SUMMARY:Offene WerkRäume: Auftakt mit Susanne Ziegele
DESCRIPTION:Die Ausstellung von Susanne Ziegele ist der Auftakt unserer Off
 enen WerkRäume im KunstRaum in der KulturStellmacherei. Die Veranstaltung
  findet selbstverständlich unter Einhaltung der geltenden Hygienebestimmu
 ngen statt. Zur Vorbereitung Ihres Besuchs finden Sie hier zum Download da
 s Kontaktformular_OWR\nAm Samstag den 1. Mai 2021 beginnt um 11.30 Uhr die
  Vernissage zur Ausstellung "Schwarzlichtbilder" als Auftaktveranstaltung 
 zu den offenen Werkräumen 2021. \nDie Verkaufserlöse werden zugunsten de
 s Kulturhauses "Alte Schlachterei" gespendet.\nDie Ausstellung im KunstRau
 m der KulturStellmacherei wird bis zum 3. Juni 2020 zu sehen sein. Susanne
  Ziegele www.susanne-ziegele.de\nSusanne Ziegele arbeitet seit Ihrem Kunst
 studium als freie Künstlerin und lebt in Schneverdingen.
ATTACH;FMTTYPE=image/jpeg:https://kulturverein-schneverdingen.de/wp-conten
 t/uploads/2020/01/timewrap.jpg
CATEGORIES:Aktuell,Archiv
LOCATION:Kulturhaus "Alte Schlachterei"\, Am Markt 2\, Schneverdingen\, 296
 40\, Deutschland
GEO:53.115125;9.791724
X-APPLE-STRUCTURED-LOCATION;VALUE=URI;X-ADDRESS=Am Markt 2\, Schneverdingen
 \, 29640\, Deutschland;X-APPLE-RADIUS=100;X-TITLE=Kulturhaus \"Alte Schlac
 hterei\":geo:53.115125,9.791724
END:VEVENT
END:VCALENDAR