BEGIN:VCALENDAR
VERSION:2.0
PRODID:-//wp-events-plugin.com//7.2.3.1//EN
BEGIN:VEVENT
UID:6182@kulturverein-schneverdingen.de
DTSTART:20200501T093000Z
DTEND:20200501T103000Z
DTSTAMP:20200327T114236Z
URL:https://kulturverein-schneverdingen.de/events/offene-werkraeume-auftak
 t-mit-susanne-ziegele-und-daniela-wolter/
SUMMARY:***Verlegt! Neuer Termin 3.10.2020*** Offene WerkRäume: Auftakt mi
 t Susanne Ziegele und Daniela Wolter
DESCRIPTION:Wegen der Corona-Krise wurden die "Offenen WerkRäume" verlegt 
 auf den 3. Oktober 2020.\nDie Ausstellung von Daniela Wolter und Susanne Z
 iegele machen auch am 3.10. um 11.30 Uhr wie geplant den Auftakt im KunstR
 aum in der KulturSTellmacherei und in der alten Friedhofskapelle.\n\nVISIO
 TOPIE\n\n\n"Bernsteintränen für Irina"\, Daniela Wolter\n\nAm Freitag de
 n 1. Mai 2020 beginnt um 11.30 Uhr die Vernissage zur Ausstellung VISIOTOP
 IE als Auftaktveranstaltung zu den offenen Werkräumen 2020. Die Friedhofs
 kapelle und die KulturStellmacherei bieten hierfür den „Topos“\, den 
 Ort des Geschehens.\n\nDas Sehen und das ganz eigene Einordnen des Gesehen
 en stehen im Mittelpunkt dieser Ausstellung\, denn Susanne Ziegele und Dan
 iela Wolter schaffen in ihren Bildern\, die zwischen abstrakter\, realisti
 scher und phantastisch-realistischer Malweise variieren\, viel Raum für e
 igene Interpretationen und Empfindungen. Mag sein\, dass die Visiotopie ei
 ne träumerische Vorstellung von einer konfliktfreien Welt und eines gesel
 lschaftlichen Lebens ist\, das nicht von Kriegen\, Lügen und Intrigen gep
 rägt ist\, sondern von der Harmonie der Natur und dem Einklang der Kräft
 e. Vielleicht ist die Visiotopie aber auch nur ein Trugbild oder eine Hall
 uzination\, die für andere Betrachter gar nicht vorhanden ist.\n\nDas au
 ßergewöhnliche Ambiente der alten Friedhofskapelle bietet einen Rahmen\,
  der passender nicht sein könnte um Licht und Schatten dieser kunstvollen
  Vision in Szene zu setzen.\n\nDie Slam Poetin Jenny Ly-Rieck bringt mit i
 hren berührenden Texten zur Eröffnung ihre eigene Utopie in die Ausstell
 ung ein.  Um 15.00 Uhr gibt es dann noch mehr Poetry Slam von der Schneve
 rdinger Schauspielerin und veganen Tierrechtsaktivistin Juli Kröger in de
 r Kapelle. Für die musikalische Umrahmung sorgt Allround-Musiker Tobias K
 iselowa am Klavier.\n\nDie Ausstellung im KunstRaum der KulturStellmachere
 i wird bis zum 3. Juni 2020 zu sehen sein. Die alte Friedhofskapelle ist a
 usschließlich zum Tag der Offenen Werkräume am 1. Mai zu besuchen.\n\nDa
 niela Wolter \, www.Aliseas-ArteFakte.de\,  Susanne Ziegele www.susanne-z
 iegele.de\nSusanne Ziegele arbeitet seit Ihrem Kunststudium als freie Kün
 stlerin und lebt in Schneverdingen.
ATTACH;FMTTYPE=image/jpeg:https://kulturverein-schneverdingen.de/wp-conten
 t/uploads/2020/01/timewrap.jpg
CATEGORIES:Aktuell,Archiv
LOCATION:Kulturhaus "Alte Schlachterei"\, Am Markt 2\, Schneverdingen\, 296
 40\, Deutschland
GEO:53.115125;9.791724
X-APPLE-STRUCTURED-LOCATION;VALUE=URI;X-ADDRESS=Am Markt 2\, Schneverdingen
 \, 29640\, Deutschland;X-APPLE-RADIUS=100;X-TITLE=Kulturhaus \"Alte Schlac
 hterei\":geo:53.115125,9.791724
END:VEVENT
END:VCALENDAR