BEGIN:VCALENDAR
VERSION:2.0
PRODID:-//wp-events-plugin.com//7.2.3.1//EN
BEGIN:VEVENT
UID:7514@kulturverein-schneverdingen.de
DTSTART:20241003T090000Z
DTEND:20241003T160000Z
DTSTAMP:20240826T095537Z
URL:https://kulturverein-schneverdingen.de/events/offene-werkraeume-2/
SUMMARY:Offene WerkRäume
DESCRIPTION:\nAm 3. Oktober werden wieder zahlreiche Künstlerinnen und Kü
 nstler ihre Ateliers für die Öffentlichkeit zugänglich machen. Bei eini
 gen von ihnen werden auch Musikkonzerte und Performances präsentiert sowi
 e Kaffee und Kuchen angeboten. Alle Ateliers werden wie in der Vergangenhe
 it mit einem blauen Band gekennzeichnet sein.\n\n\n\nWeitere Infos in der 
 eigenen Broschüre und auf www.kultur.hk\n\n\n\nAusstellende Künstlerinne
 n und Künstler:\nBettina Allzeit\nThomas Borns\nIngrid Brenke\nWolfgang C
 ordes\nBarbara Frömming\nRosemarie Götze\nSoraya Heuer\nChristoph Kossma
 nn\nManuela Mordhorst\nBernd Pleiser\nFriedhelm Röttgers\nBernd Rutkowski
 \nAnke Timmer-Michaelis\nVolker Stamer\nSusanne Timmer\n&nbsp\;\nEintritt 
 frei\n
ATTACH;FMTTYPE=image/jpeg:https://kulturverein-schneverdingen.de/wp-conten
 t/uploads/2023/08/13.png
CATEGORIES:Aktuell,Anlass/Voraussetzung,Archiv,Begegnungen/zusammen
 sein,Bei Regenwetter,Eintritt frei,Kommende Veranstaltungen,Kunst,Mit der
 Familie,Mit mehreren Leuten/wenn Besuch
 kommt,Tageszeit,Tagsüber,Veranstaltungsart
LOCATION:Kulturhaus "Alte Schlachterei"\, Am Markt 2 \, Schneverdingen\, 29
 640\, Deutschland
GEO:53.115125;9.791724
X-APPLE-STRUCTURED-LOCATION;VALUE=URI;X-ADDRESS=Am Markt 2 \, Schneverdinge
 n\, 29640\, Deutschland;X-APPLE-RADIUS=100;X-TITLE=Kulturhaus \"Alte Schla
 chterei\":geo:53.115125,9.791724
END:VEVENT
END:VCALENDAR