BEGIN:VCALENDAR
VERSION:2.0
PRODID:-//wp-events-plugin.com//7.2.3.1//EN
BEGIN:VEVENT
UID:7095@kulturverein-schneverdingen.de
DTSTART:20230805T170000Z
DTEND:20230805T170000Z
DTSTAMP:20230719T093135Z
URL:https://kulturverein-schneverdingen.de/events/new-culture-einfach-mal-
 was-schoenes/
SUMMARY:New Culture & Einfach mal was Schönes
DESCRIPTION:Erst Live-Musik\, dann Kino! Mit "New Culture" erleben Sie ein 
 breites Spektrum an Pop- und Rocksongs. Die jungen Musikerinnen und Musike
 r spielen schon viele Jahre zusammen und läuten diesen Sommerabend ein. 
 \nBei Anbruch der Dunkelheit folgt der Kinofilm "Einfach mal was Schönes"
 .\n\nMit ihrer vierten Regiearbeit begibt sich Karoline Herfurth wieder in
 s Sujet der Romcom\, wie aber schon bei ihren bisherigen Arbeiten lädt si
 e das Ganze auch mit dramatischen und bisweilen tragischen Elementen auf. 
 Sie spielt eine Frau\, die auf die 40 zugeht\, keinen Freund hat\, aber ei
 n Kind möchte. Darum denkt sie über künstliche Befruchtung nach\, als s
 ie mit Ole endlich einen richtig guten Mann kennen lernt. Aber der ist ers
 t 28 Jahre alt.\n\nKomödie\nDeutschland 2022\n\n\nRegie: Karoline Herfurt
 h\nBuch: Monika Fäßler\, Tim Hebborn\, Karoline Herfurth\nDarsteller: Ka
 roline Herfurth\, Nora Tschirner\, Milena Tscharntke\, Ulrike Kriener\nBei
  dieser Veranstaltung ist kein Vorverkauf möglich. Tickets gibt es an der
  Abendkasse für 7\,50 Euro.\n
ATTACH;FMTTYPE=image/jpeg:https://kulturverein-schneverdingen.de/wp-conten
 t/uploads/2023/07/3577827-2.webp
CATEGORIES:Abends,Aktuell,Barrierefrei,Kommende
 Veranstaltungen,Konzert,Mit der Familie,Mit mehreren Leuten/wenn Besuch
 kommt,Open Air,Tageszeit
LOCATION:Kulturhaus "Alte Schlachterei"\, Am Markt 2 \, Schneverdingen\, 29
 640\, Deutschland
GEO:53.115125;9.791724
X-APPLE-STRUCTURED-LOCATION;VALUE=URI;X-ADDRESS=Am Markt 2 \, Schneverdinge
 n\, 29640\, Deutschland;X-APPLE-RADIUS=100;X-TITLE=Kulturhaus \"Alte Schla
 chterei\":geo:53.115125,9.791724
END:VEVENT
END:VCALENDAR