BEGIN:VCALENDAR
VERSION:2.0
PRODID:-//wp-events-plugin.com//7.2.3.1//EN
BEGIN:VEVENT
UID:9874@kulturverein-schneverdingen.de
DTSTART:20270114T173000Z
DTEND:20270114T203000Z
DTSTAMP:20260423T130919Z
URL:https://kulturverein-schneverdingen.de/events/lesung-timo-blunck-neon-
 baby/
SUMMARY:Lesung Timo Blunck: Neon-Baby
DESCRIPTION:Ein Club der Superreichen. Ein Jagdrevier. Kein Entkommen. Und 
 niemand wird verschont – Kriminalroman\n\nEin tödlicher Countdown – u
 nd eine Welt\, in der Menschen zur Beute werden\n\nEx-Kommissar Tom Mangol
 d bekommt eine bizarre tödliche Diagnose: 180 Tage bleiben ihm\, um sein 
 Leben zu retten. Doch die Zeit wird knapp: Als nach einem Deichbruch sechs
  tote junge Menschen gefunden werden\, erwacht auch Toms alter Ermittlerin
 stinkt. Die Spur führt in die Welt der Superreichen\, hinter deren schill
 ernder Fassade verstörende Abgründe lauern – und Tom gerät in gefähr
 liches Scheinwerferlicht.\n\nIn »Neon Baby« verknüpft Timo Blunck einen
  düsteren Kriminalfall mit scharfer Gesellschaftskritik. Hart\, sarkastis
 ch und intensiv erzählt er von Macht\, Moral und einer Elite\, die sich 
 über jedes Gesetz erhebt.\n\nEin Noir-Thriller unter Hochspannung: ein Er
 mittler gegen die Zeit – und ein Spiel\, in dem Menschenleben nichts zä
 hlen.\n\n»Mein Protagonist wird kein Stehaufmännchen. Die Dinge\, die ih
 m passieren\, werden ihn verändern. Er nimmt jedes Mal Schaden. Physisch 
 und mental.« Timo Blunck\nDer zweite Fall für Ex-Kommissar Mangold. Auch
  unabhängig lesbar.\n\nIn Zusammenarbeit mit der Volkshochschule Heidekre
 is\n
ATTACH;FMTTYPE=image/jpeg:https://kulturverein-schneverdingen.de/wp-conten
 t/uploads/2026/04/NeonBaby-Titel.png
CATEGORIES:Abends,Aktuell,Anlass/Voraussetzung,Archiv,Barrierefrei,Begegnu
 ngen/zusammen sein,Bei Regenwetter,Kommende
 Veranstaltungen,Lesung/Literatur,Mit der Familie,Mit mehreren Leuten/wenn
 Besuch kommt,Tageszeit,Veranstaltungsart
LOCATION:Kulturhaus "Alte Schlachterei"\, Am Markt 2 \, Schneverdingen\, 29
 640\, Deutschland
GEO:53.115125;9.791724
X-APPLE-STRUCTURED-LOCATION;VALUE=URI;X-ADDRESS=Am Markt 2 \, Schneverdinge
 n\, 29640\, Deutschland;X-APPLE-RADIUS=100;X-TITLE=Kulturhaus \"Alte Schla
 chterei\":geo:53.115125,9.791724
END:VEVENT
END:VCALENDAR