BEGIN:VCALENDAR
VERSION:2.0
PRODID:-//wp-events-plugin.com//7.2.3.1//EN
BEGIN:VEVENT
UID:7509@kulturverein-schneverdingen.de
DTSTART:20240321T173000Z
DTEND:20240321T173000Z
DTSTAMP:20240213T082153Z
URL:https://kulturverein-schneverdingen.de/events/lesung-samer-tannous-u-g
 erd-hachmoeller-lebt-ein-syrer-in-rotenburg-wuemme/
SUMMARY:Lesung Samer Tannous u. Gerd Hachmöller: Lebt ein Syrer in Rotenbu
 rg (Wümme)
DESCRIPTION:Wegen der großen Nachfrage haben wir schnell reagiert und eine
 n Zusatztermin vereinbart.\n\nGekommen um zu bleiben: Der neue SPIEGEL-Bes
 tseller des beliebten Autorenduos\n\nAls Samer Tannous mit seiner Familie 
 nach Rotenburg an der Wümme kam\, wusste er noch nicht\, wie weit die kul
 turellen Unterschiede zwischen Syrern und Deutschen reichen\, mit welchen 
 Skurrilitäten er zu rechnen hatte. Nun\, nach einigen Jahren in Deutschla
 nd\, ist der Erstkontakt mit den Landsleuten zwar geglückt. Doch hält da
 s Leben in der neuen Heimat noch immer jede Menge Überraschungen bereit. 
 In den neuen Texten ihrer beliebten SPIEGEL-Kolumne schreiben Samer Tannou
 s und Gerd Hachmöller darüber\, was Helene Fischer mit Meinungsfreiheit 
 zu tun hat\, warum Schuhsohlen im deutschen Fernsehen unweigerlich zu Miss
 verständnissen führen und was passiert\, wenn ein syrischer Vater sich i
 n Deutschland mit exotischen Vokabeln wie "Geburtsvorbereitungskurs" ausei
 nandersetzen muss. Unterhaltsam\, aufschlussreich und unvergleichlich char
 mant.\n\nSamer Tannous wurde in 1970 in Al-Bayda (Syrien) geboren. Fünf J
 ahre lang studierte er in Nancy (Frankreich) und Damaskus französische Li
 teratur. Von 2007 bis 2015 arbeitete er als Dozent für französische Spra
 che und Literatur an den Universitäten Damaskus und Hama. Im Dezember 201
 5 kam er mit seiner Familie nach Deutschland und lebt seitdem mit seiner F
 rau und seinen beiden Töchtern im niedersächsischen Rotenburg (Wümme). 
 Nachdem er im Eigenstudium die deutsche Sprache erlernt hat\, arbeitet er 
 seit Sommer 2016 als Französischlehrer an verschiedenen Schulen. Seine mi
 t Gerd Hachmöller geschriebenen SPIEGEL-Kolumnen erschienen erstmals 2020
  unter dem Titel »Kommt ein Syrer nach Rotenburg (Wümme)« bei DVA.\n\n\
 n\nGerd Hachmöller wurde 1972 in Celle\, Niedersachsen geboren. Er studie
 rte in Marburg und Hannover Wirtschaftsgeografie sowie an der London Schoo
 l of Economics Volkswirtschaftslehre. Anschließend arbeitete er bei der E
 uropäischen Kommission und in der regionalwissenschaftlichen Forschung. H
 eute ist er Stabstellenleiter im Landkreis Rotenburg (Wümme) und dort unt
 er anderem für die Themen Migration und Integration zuständig. Im Jahr 2
 015 leitete er die Einrichtung und den Betrieb einer Notunterkunft für Ge
 flüchtete. Nebenberuflich arbeitet Gerd Hachmöller als systemischer Coac
 h\, Teamentwickler\, Dozent und Autor. Schwerpunkt seiner Dozententätigke
 it ist der Umgang mit kulturellen Unterschieden sowie die Psychologie des 
 Helfens. Gerd Hachmöller lebt in Rotenburg (Wümme)\, ist verheiratet und
  hat drei Kinder. Seine mit Samer Tannous geschriebenen SPIEGEL-Kolumnen e
 rschienen erstmals 2020 unter dem Titel »Kommt ein Syrer nach Rotenburg (
 Wümme)« bei DVA.\n\n\n\nGemeinsame Veranstaltung mit Schneverdingen Inkl
 usiv / Lebenshilfe Soltau e. V.\n\nTickets VVK 12 € / TK 15 €
ATTACH;FMTTYPE=image/jpeg:https://kulturverein-schneverdingen.de/wp-conten
 t/uploads/2024/02/25.png
CATEGORIES:Abends,Aktuell,Anlass/Voraussetzung,Begegnungen/zusammen
 sein,Bei Regenwetter,Kommende Veranstaltungen,Lesung/Literatur,Mit der
 Familie,Mit mehreren Leuten/wenn Besuch kommt,Veranstaltungsart
LOCATION:Stadtbäckerei Hoppe\, Café am Kirchhof\, Bahnhofstraße 28\, Sch
 neverdingen\, 29640\, Deutschland
X-APPLE-STRUCTURED-LOCATION;VALUE=URI;X-ADDRESS=Bahnhofstraße 28\, Schneve
 rdingen\, 29640\, Deutschland;X-APPLE-RADIUS=100;X-TITLE=Stadtbäckerei Ho
 ppe\, Café am Kirchhof:geo:0,0
END:VEVENT
END:VCALENDAR