BEGIN:VCALENDAR
VERSION:2.0
PRODID:-//wp-events-plugin.com//7.2.3.1//EN
BEGIN:VEVENT
UID:7783@kulturverein-schneverdingen.de
DTSTART:20250226T173000Z
DTEND:20250226T200000Z
DTSTAMP:20250218T075637Z
URL:https://kulturverein-schneverdingen.de/events/lesung-roland-jankowsky/
SUMMARY:Roland Jankowsky - „Wenn Overbeck kommt…“ - Die Lesung
DESCRIPTION:\nDer "coolste" TV-Kommissar\nDer Schauspieler viele schräg-kr
 iminelle Short Stories im Gepäck. Das Besondere: Jankowsky liest nicht nu
 r – als Schauspieler schlüpft er in die verschiedenen Rollen – wodurc
 h die Kurzgeschichten lebendig und abwechslungsreich werden und der Abend 
 durch seine Lesekunst beste Unterhaltung verspricht. \n\nSeit über 25 Jah
 ren spielt Roland Jankowsky in der beliebten ZDF-Krimireihe „Wilsberg“
  den etwas speziellen Kommissar Overbeck. In dieser Rolle tritt er gerne i
 n so manches Fettnäpfchen und agiert auch oftmals ungezügelt am Rande de
 r Legalität\, was ihm den Beinamen „Dirty Harry von Münster“ eingebr
 acht hat. 2018 wurde er sogar zum „coolsten TV-Kommissar Deutschlands“
  gewählt. Roland Jankowsky verfügt über viele Talente. Ob als Schauspie
 ler im TV oder Theater\, Sänger oder Hörbuchsprecher – sein komödiant
 isches Potenzial ist unverkennbar sein Markenzeichen. \n\nNeben der Schaus
 pielerei ist Jankowsky seit einigen Jahren sehr erfolgreich mit seiner Kri
 milesung auf Tour. Hier pflastern weniger die Fettnäpfchen\, sondern verm
 ehrt Leichen seinen Weg. In den Geschichten geht es um Killer und die Tüc
 ke\, denen sich der Berufsstand stellen muss. Nicht jede Kugel die trifft\
 , trifft auch den Richtigen. Es wird gemordet\, aber die überraschenden W
 endungen\, der Wortwitz\, groteske Situationen und das oft unerwartete End
 e sorgen beim Publikum für jede Menge Lacher. Der Humor kommt auf keinen 
 Fall zu kurz. \nKein Wunder\, dass ihn die Zuschauer der Eifel-Kulturtage 
 2016 mit seiner Krimilesung zum Gewinner des Publikumspreises gekürt habe
 n.\n\nEintritt  VVK  18 €  TK  22 € zzgl. Bearbeitungsgebühren\n
ATTACH;FMTTYPE=image/jpeg:https://kulturverein-schneverdingen.de/wp-conten
 t/uploads/2024/10/Kopie-von-English-Conversation-61.png
CATEGORIES:Abends,Aktuell,Barrierefrei,Begegnungen/zusammen sein,Bei
 Regenwetter,Kommende Veranstaltungen,Lesung/Literatur,Mit der Familie,Mit
 mehreren Leuten/wenn Besuch kommt,Tageszeit,Veranstaltungsart
LOCATION:Forum der KGS\, Am Timmerahde 28-30\, Schneverdingen\, 29640\, Deu
 tschland
GEO:53.1211439;9.800073600000019
X-APPLE-STRUCTURED-LOCATION;VALUE=URI;X-ADDRESS=Am Timmerahde 28-30\, Schne
 verdingen\, 29640\, Deutschland;X-APPLE-RADIUS=100;X-TITLE=Forum der KGS:g
 eo:53.1211439,9.800073600000019
END:VEVENT
END:VCALENDAR