BEGIN:VCALENDAR
VERSION:2.0
PRODID:-//wp-events-plugin.com//7.2.3.1//EN
BEGIN:VEVENT
UID:6196@kulturverein-schneverdingen.de
DTSTART:20200925T180000Z
DTEND:20200925T203000Z
DTSTAMP:20200721T121204Z
URL:https://kulturverein-schneverdingen.de/events/lesung-mit-andreas-winke
 lmann-der-fahrer/
SUMMARY:***Fällt leider aus!*** Lesung mit Andreas Winkelmann: "Der Fahrer
 "
DESCRIPTION:„Der Fahrer“\, Thriller von Andreas Winkelmann\n\nDu hattes
 t einen höllischen Tag und einen Gin Tonic zu viel. Das Auto kannst du ni
 cht mehr nehmen. Zum Glück gibt es MyDriver\, die App\, mit der man jeder
 zeit ein Auto samt Fahrer bestellen kann. Aber du kommst nie zu Hause an..
 . Überall in der Stadt verschwinden junge Frauen. Kommissar Jens Kerner u
 nd seine Kollegin Rebecca Oswald ermitteln fieberhaft - obwohl beide mit p
 rivaten Herausforderungen kämpfen. Jens wird mit seiner Vergangenheit kon
 frontiert\, und Rebecca versucht erfolglos\, ihn in die Gegenwart - und zu
  sich - zu ziehen. Dann verschwindet eine Fahrerin von MyDriver - auf dem 
 Wagen steht in Leuchtschrift: #findemich ...\n\n\n\nAndreas Winkelmann\, g
 eboren 1968 in Niedersachsen\, ist verheiratet und hat eine Tochter. Er le
 bt mit seiner Familie in einem einsamen Haus am Waldrand nahe Bremen. Wenn
  er nicht gerade in menschliche Abgründe abtaucht\, überquert er zu Fuß
  die Alpen\, steigt dort auf die höchsten Berge oder fischt und jagt mit 
 Pfeil und Bogen in der Wildnis Kanadas.\n\nEintritt:\n\nVVK  10 €   A
 K  12 €\n\nGemeinsame Veranstaltung mit der Buchhandlung Vielseitig
ATTACH;FMTTYPE=image/jpeg:https://kulturverein-schneverdingen.de/wp-conten
 t/uploads/2020/02/Winkelmann_Der-Fahrer-1.jpg
CATEGORIES:Aktuell,Archiv
LOCATION:Theeshof\, Hansahlener Dorfstraße 16\, Schneverdingen\, 29640\, D
 eutschland
GEO:53.12992999999999;9.786280000000033
X-APPLE-STRUCTURED-LOCATION;VALUE=URI;X-ADDRESS=Hansahlener Dorfstraße 16\
 , Schneverdingen\, 29640\, Deutschland;X-APPLE-RADIUS=100;X-TITLE=Theeshof
 :geo:53.12992999999999,9.786280000000033
END:VEVENT
END:VCALENDAR