BEGIN:VCALENDAR
VERSION:2.0
PRODID:-//wp-events-plugin.com//7.2.3.1//EN
BEGIN:VEVENT
UID:7805@kulturverein-schneverdingen.de
DTSTART:20250426T130000Z
DTEND:20250426T153000Z
DTSTAMP:20250311T155218Z
URL:https://kulturverein-schneverdingen.de/events/lesezeichen-karin-muelle
 r-nordlicht/
SUMMARY:LeseZeichen: Karin Müller: Nordlicht
DESCRIPTION:Kinderlesung ab 11 Jahren\nNordlicht \nIm Land der wilden Pfer
 de (Band 1)  \nAusgerechnet Island -Schnee\, Eis und Kälte! Die 15-jäh
 rige Elin ist alles andere als begeistert\, als sie mit ihrer Mutter nach 
 Island reisen muss. Und dann ist auch noch ein Ausritt auf Islandpferden g
 eplant! Dabei ist für Elin eigentlich ganz klar: Pferde und Reiten\, das 
 war mal! Doch als sie auf Island ankommt\, spürt sie sofort eine besonder
 e\, geheimnisvolle Verbindung zu der Insel\, die sie zunächst nicht deu-t
 en kann. Und diese Verbindung wird stärker\, als sie einen Ausritt untern
 ehmen und auf Kári und eine Herde Wildpferde treffen. \n\n@Uwe Janssen\n
 Karin Müller ist mit „Nordlicht“ bei Schneiderbuch ein großer Bestse
 ller gelungen. Darüber hinaus schreibt sie Tierratgeber\, Kinder-und Juge
 ndbücher. Sie wurde in Kitzingen am Main geboren\, studierte an der Leuph
 ana Universität Lüneburg und arbeitete viele Jahre als Radio-und Zeitung
 sredakteurin im Kulturressort. Heute lebt sie auf dem Land bei Hannover. D
 ie besten Ideen hat sie am Gartenteich\, auf Reisen oder wenn sie einem Pf
 erd beim Grasen zuhört.  \nEintritt frei\n\n
ATTACH;FMTTYPE=image/jpeg:https://kulturverein-schneverdingen.de/wp-conten
 t/uploads/2024/11/130.png
CATEGORIES:Abends,Aktuell,Anlass/Voraussetzung,Archiv,Barrierefrei,Begegnu
 ngen/zusammen sein,Bei Regenwetter,Kommende
 Veranstaltungen,Lesung/Literatur,Mit der Familie,Mit mehreren Leuten/wenn
 Besuch kommt,Tageszeit,Veranstaltungsart
LOCATION:Grundschule am Osterwald\, Osterwaldweg 13\, Schneverdingen\, 2964
 0\, Deutschland
GEO:53.1189529;9.794335199999978
X-APPLE-STRUCTURED-LOCATION;VALUE=URI;X-ADDRESS=Osterwaldweg 13\, Schneverd
 ingen\, 29640\, Deutschland;X-APPLE-RADIUS=100;X-TITLE=Grundschule am Oste
 rwald:geo:53.1189529,9.794335199999978
END:VEVENT
END:VCALENDAR