BEGIN:VCALENDAR
VERSION:2.0
PRODID:-//wp-events-plugin.com//7.2.3.1//EN
BEGIN:VEVENT
UID:9828@kulturverein-schneverdingen.de
DTSTART:20260424T180000Z
DTEND:20260424T204500Z
DTSTAMP:20260123T112349Z
URL:https://kulturverein-schneverdingen.de/events/kulturhaus-live-no-fun-a
 t-all/
SUMMARY:Kulturhaus LIVE: NO FUN AT ALL
DESCRIPTION:\nSchwedische Punkrock-Band\, die mit Songs wie „Master Celeb
 rator“ seit den 1990er-Jahren zu den Größen der europäischen Punk-Sze
 ne zählt.\n\n\n\nAls Punkband ist es ja eine Sache\, auf der anfängliche
 n Welle jugendlicher Begeisterung und Energie zu reiten. Sich als als flei
 ßige Band zu etablieren\, die weiterhin Platten produziert\, die bei den 
 Fans Anklang finden\, ist eine ganz andere Sache. Im Fall von No Fun At Al
 l besteht kein Zweifel daran\, dass sie sich ihren Weg in den Kanon des me
 lodischen Punkrocks etabliert haben\, nachdem sie ihr viertes Jahrzehnt al
 s Band mit Schwung hinter sich gebracht haben. No Fun At All ist zum Synon
 ym für rasanten\, ansteckenden Skate-Punk geworden.Angefangen hat alles i
 m Jahr 1991 in der kleinen Industriestadt Skinnskatteberg in Schweden\, zu
 sammen mit den Labelkollegen Millencolin und Satanic Surfers von Burning H
 eart Records treten No Fun At All an\, das Auf und Ab der Szene zu überle
 ben. Ihre teils düsteren\, aber stets packenden Melodien haben sich über
  die Jahre zu einem Markenzeichen entwickelt. No Fun At All sind der Bewei
 s dafür\, dass melodischer Punk mit ernsten Problemen umgehen kann und da
 bei eine Verspieltheit bewahrt\, die im feierlichen Live-Setting durchsche
 int.\n\nSupport: SKIN OF TEARS \naus Wermelskirchen (NRW) mischen seit 199
 1 mit im großen Punk Rock Circus und gehören damit zu den Pionieren des 
 Melodic Core aus deutschen Landen. Rasant und abwechslungsreich\, dynamisc
 h und auf den Punkt brettern sie \ndurch viele Spielarten ihres Genres und
  halten immer wieder Hooklines zum Mitnehmen bereit. In kleinen Clubs und 
 auch auf großen Bühnen kennen sich SKIN OF TEARS bestens aus und bieten 
 überall eine energiegeladene Show fernab von der Lethargie so mancher erf
 olgsverwöhnter Genregröße.FAKE MY DAY heißt das neue Album. Gewohnt in
  Eigenregie veröffentlicht und gepowert durch den Vertrieb von GUNNER REC
 ORDS\, überrascht es Kritiker und Fans mit einer ungeahnter Frische und S
 pielfreude. Mit Unterbrechung - sozusagen "brutto" - sind SKIN OF TEARS se
 it mehr als 30 Jahren unterwegs und haben sich mit hohem Sympathiefaktor e
 inen bemerkenswerten Kultstatus unter den Eingeweihten erspielt.\n\nCredit
 s @jensnordstrom_K9H8493
ATTACH;FMTTYPE=image/jpeg:https://kulturverein-schneverdingen.de/wp-conten
 t/uploads/2026/01/©jensnordstrom_K9H8493.jpg
CATEGORIES:Abends,Aktuell,Anlass/Voraussetzung,Archiv,Barrierefrei,Begegnu
 ngen/zusammen sein,Bei Regenwetter,Kommende Veranstaltungen,Konzert,Mit
 der Familie,Mit mehreren Leuten/wenn Besuch
 kommt,Tageszeit,Veranstaltungsart
LOCATION:Kulturhaus "Alte Schlachterei"\, Am Markt 2 \, Schneverdingen\, 29
 640\, Deutschland
GEO:53.115125;9.791724
X-APPLE-STRUCTURED-LOCATION;VALUE=URI;X-ADDRESS=Am Markt 2 \, Schneverdinge
 n\, 29640\, Deutschland;X-APPLE-RADIUS=100;X-TITLE=Kulturhaus \"Alte Schla
 chterei\":geo:53.115125,9.791724
END:VEVENT
END:VCALENDAR