BEGIN:VCALENDAR
VERSION:2.0
PRODID:-//wp-events-plugin.com//7.2.3.1//EN
BEGIN:VEVENT
UID:7159@kulturverein-schneverdingen.de
DTSTART:20240826T130000Z
DTEND:20240826T160000Z
DTSTAMP:20240503T083930Z
URL:https://kulturverein-schneverdingen.de/events/kultur-u-naturhistorisch
 e-wanderung-im-quellgebiet-der-veerse/
SUMMARY:Kultur- u. naturhistorische Wanderung im Quellgebiet der Veerse
DESCRIPTION:WOHER KOMMT DENN DAS VEERSE- UND WÜMMEWASSER?\n\nEine Wanderun
 g ab Veersequellen bis Voigten\, mit informativen Geschichten rund um Geog
 raphie\, Historie\, Schöpfung\, um Wasser und Klima. \n\nWegen Dornen\, P
 fützen und Moor sind Gummistiefel zu empfehlen. Hunde bitte an der Leine 
 führen.\n\n\nDauer der Wanderung bei 37° eine\, bei 27° bis zu drei Stu
 nden.\nKostenbeitrag 5 € (vor Ort zu bezahlen)\nTreffpunkt Hotel Schäfe
 rhof\n\nLeitung: Heiner Wajemann/Wintermoor\, Mitverfasser des Wümmebuche
 s und anderer Publikationen über Wintermoor und die Lüneburger Heide.
ATTACH;FMTTYPE=image/jpeg:https://kulturverein-schneverdingen.de/wp-conten
 t/uploads/2023/05/Durch-die-Kiefer-scaled.jpg
CATEGORIES:Aktuell,Anlass/Voraussetzung,Archiv,Kommende
 Veranstaltungen,Mit der Familie,Mit mehreren Leuten/wenn Besuch
 kommt,Sonstiges,Tageszeit,Tagsüber,Veranstaltungsart
LOCATION:Hotel Schäferhof\, Heberer Str. 100\, Schneverdingen\, 29640\, De
 utschland
GEO:53.10443;9.81993
X-APPLE-STRUCTURED-LOCATION;VALUE=URI;X-ADDRESS=Heberer Str. 100\, Schnever
 dingen\, 29640\, Deutschland;X-APPLE-RADIUS=100;X-TITLE=Hotel Schäferhof:
 geo:53.10443,9.81993
END:VEVENT
END:VCALENDAR