BEGIN:VCALENDAR
VERSION:2.0
PRODID:-//wp-events-plugin.com//7.2.3.1//EN
BEGIN:VEVENT
UID:7149@kulturverein-schneverdingen.de
DTSTART:20240510T170000Z
DTEND:20240510T200000Z
DTSTAMP:20240315T084429Z
URL:https://kulturverein-schneverdingen.de/events/kultlegenden-the-story-o
 f-neil-young-2-2/
SUMMARY:KultLegenden: The Story of Neil Young
DESCRIPTION:Gefühlt hat uns (jedenfalls den Machern der Reihe KultLegenden
 ) die Musik von Neil Young bis dato nahezu das gesamte Leben begleitet. In
  den 70igern haben wir vor allem die Rockmusik aus England und den USA lie
 ben und schätzen gelernt. Headbanging und Luftgitarre gehörten zu unsere
 m Repertoire jeder Party. Und dann hörten wir mit „Heart of Gold“ pl
 ötzlich eine LP\, die ganz anders war\, uns alle zutiefst berührte und f
 aszinierte. Bis heute! Es wird Zeit\, die Story des Ausnahmekünstlers Nei
 l Young einmal näher zu betrachten und Euch vorzustellen.\n\nNeil Young i
 st einer der weltweit bedeutendsten Folkmusiker\, wird gleichzeitig aber a
 uch als „Godfather of Grounge“ bezeichnet. Genau diese scheinbar so wi
 dersprüchlichen musikalischen Extreme sind bezeichnend für seine beeindr
 uckende Laufbahn. Seine Karriere begann 1966 mit der Band Buffalo Springf
 ield. Er tritt mit der Band Crazy Horse\, aber auch solo und mit anderen 
 Künstlern auf\, insbesondere mit Crosby\, Stills\, Nash (&amp\; Young). 
 Seine kommerziell erfolgreichsten Titel sind Heart of Gold und Rockin
 ’ in the Free World. Er hat 45 Studioalben\, 27 Livealben sowie diverse 
 Kollaborationsalben\, Soundtracks und EPs veröffentlicht.\n\nKuirt Cobain
  war ein großer Verehrer von Neil Young und hatte ihn vor seinem Suizid
  in seinem Abschiedsbrief mit der Textzeile „It’s better to burn ou
 t than to fade away“ zitiert\, die im Original aus dem Akustiksong My M
 y\, Hey Hey (Out of the Blue) stammt.\n\nNeil Youngs freier Geist\, seine
  Eigenwilligkeit und Individualität machte es seinen zahlreichen Fans nic
 ht immer leicht. Sowohl musikalisch als auch politisch vertrat er nicht im
 mer den aus der Hippie-Bewegung entstandenen Mainstream und er eckte so ma
 nches Mal mit seiner eigenen Sichtweise an.\n\nWir präsentieren Neil Youn
 g mit einer Retrospektive über sein Leben und künstlerisches Werk. Anhan
 d von Videoclips und Konzertmitschnitten werden wir sein musikalisches Sch
 affen in tiefster Verbeugung vor seinem Lebenswerk präsentieren. Über al
 l dies werden wir mit spannenden Hintergrundinformationen\, Geschichten un
 d Anekdoten in der Story von Neil Young berichten. Dabei wird Euch KultMod
 erator Frank Jonas kurzweilig und in entspannter Atmosphäre durch den Abe
 nd leiten.\n\nAchtung: Aufgrund von Umbauarbeiten in der KulturStellmacher
 ei findet der KultLegenden-Abend dieses Mal im Heimathaus DE Theeshof stat
 t.\n\nEintritt:  VVK 5 €/ AK 7 €
ATTACH;FMTTYPE=image/jpeg:https://kulturverein-schneverdingen.de/wp-conten
 t/uploads/2024/01/14.png
CATEGORIES:Aktuell
LOCATION:Theeshof\, Hansahlener Dorfstraße 16\, Schneverdingen\, 29640\, D
 eutschland
GEO:53.12992999999999;9.786280000000033
X-APPLE-STRUCTURED-LOCATION;VALUE=URI;X-ADDRESS=Hansahlener Dorfstraße 16\
 , Schneverdingen\, 29640\, Deutschland;X-APPLE-RADIUS=100;X-TITLE=Theeshof
 :geo:53.12992999999999,9.786280000000033
END:VEVENT
END:VCALENDAR