BEGIN:VCALENDAR
VERSION:2.0
PRODID:-//wp-events-plugin.com//7.2.3.1//EN
BEGIN:VEVENT
UID:6683@kulturverein-schneverdingen.de
DTSTART:20221019T160000Z
DTEND:20221019T193000Z
DTSTAMP:20221005T134754Z
URL:https://kulturverein-schneverdingen.de/events/kultik-madama-butterfly/
SUMMARY:KultiK: "Madama Butterfly"
DESCRIPTION:KultiK: Aus London: „MADAMA BUTTERFLY“\nAus dem Royal Opera
  House\, Oper\n\n\nCio-Cio-San: Maria Agresta\nLieutenant B.F. Pinkerton: 
 Joshua Guerrero\nSharpless: Carlos Álvarez\nSuzuki: Christine Rice\nGoro:
  Carlo Bosi\nDirigent: Nicola Luisotti\n‚Die Liebe kann nicht töten: Si
 e erzeugt neues Leben‘\nDas sagt der amerikanische Marineoffizier Pinker
 ton an einem sternklaren Abend in Nagasaki zu der jungen Geisha Cio-Cio-Sa
 n. Aber wie sie beide erfahren müssen\, können leichtfertig dahingesagte
  Worte und Versprechen unauslöschliche Konsequenzen haben.\n\nGiacomo Puc
 cinis Oper\, die Butterflys Arie ‚Un bel dì\, vedremo‘ (‘Eines Tage
 s sehen wir’) sowie den ‚Summchor‘ beinhaltet\, ist bezaubernd und l
 etzten Endes herzzerreißend. Die exquisite Inszenierung von Moshe Leiser 
 und Patrice Caurier ist durch europäische Bilder Japans aus dem 19. Jahrh
 undert inspiriert.\nMittwoch\, 19. Oktober\, 18:00 Uhr\, Kino in der Kultu
 rStellmacherei\nGemeinsame Veranstaltung mit LichtSpiel e.V.\nTickets bei 
 den Vorverkaufsstellen vom Kulturverein\nEintrittspreis 24 €/ Mitglieder
   21 €\nIn Zusammenarbeit mit dem Lichtspiel Schneverdingen e.V.
ATTACH;FMTTYPE=image/jpeg:https://kulturverein-schneverdingen.de/wp-conten
 t/uploads/2016/05/ROH.jpg
CATEGORIES:Abends,Aktuell,Anlass/Voraussetzung,Archiv,Barrierefrei,Begegnu
 ngen/zusammen sein,Bei Regenwetter,Kommende Veranstaltungen,Mit der
 Familie,Mit mehreren Leuten/wenn Besuch
 kommt,Sonstiges,Tageszeit,Veranstaltungsart
LOCATION:Kino LichtSpiel\, Oststraße 31\, Schneverdingen\, Deutschland
GEO:53.115125;9.791724
X-APPLE-STRUCTURED-LOCATION;VALUE=URI;X-ADDRESS=Oststraße 31\, Schneverdin
 gen\, Deutschland;X-APPLE-RADIUS=100;X-TITLE=Kino LichtSpiel:geo:53.115125
 ,9.791724
END:VEVENT
END:VCALENDAR