BEGIN:VCALENDAR
VERSION:2.0
PRODID:-//wp-events-plugin.com//7.2.3.1//EN
BEGIN:VEVENT
UID:7743@kulturverein-schneverdingen.de
DTSTART:20241211T160000Z
DTEND:20241211T193000Z
DTSTAMP:20241209T092520Z
URL:https://kulturverein-schneverdingen.de/events/kultik-der-nussknacker-2
 /
SUMMARY:KultiK: "Der Nussknacker"
DESCRIPTION:KultiK Kultur im Kino\n\nAus dem Londoner Royal Opera House\, B
 allett: “Der Nussknacker”\n\nBegleiten Sie Clara zu einer bezaubernden
  Feier am Weihnachtsabend\, die zu einem magischen Abenteuer wird\, sobald
  alle anderen im Bett sind. Bestaunen Sie die Brillanz von Tschaikowskys M
 usik\, während Clara und ihr verzauberter Nussknacker gegen den Mäusekö
 nig kämpfen und die Zuckerpflaumenfee im glitzernden Königreich der Sü
 ßigkeiten besuchen. Die beliebte Inszenierung von Peter Wright für das R
 oyal Ballet mit den prachtvollen Kostümen von Julia Trevelyan Oman bleibt
  dem Geist dieses festlichen Ballettklassikers treu und verbindet die Span
 nung des Märchens mit spektakulärem Tanz.\n\nChoreographie: Peter Wright
  nach Lew Iwanow\; Musik: Pjotr Il'yich Tschaikowsky\; Originaldrehbuch: M
 arius Petipa nach E.T.A. Hoffman\; Inszenierung und Drehbuch: Peter Wright
 \; Dirigent: Andrew Litton.\n\nGemeinsame Veranstaltung mit LichtSpiel e.V
 .
ATTACH;FMTTYPE=image/jpeg:https://kulturverein-schneverdingen.de/wp-conten
 t/uploads/2024/08/Kopie-von-English-Conversation-65.png
CATEGORIES:Abends,Aktuell,Anlass/Voraussetzung,Archiv,Barrierefrei,Begegnu
 ngen/zusammen sein,Bei Regenwetter,Kommende
 Veranstaltungen,Sonstiges,Tageszeit,Veranstaltungsart
LOCATION:Kino LichtSpiel\, Oststraße 31\, Schneverdingen\, Deutschland
GEO:53.115125;9.791724
X-APPLE-STRUCTURED-LOCATION;VALUE=URI;X-ADDRESS=Oststraße 31\, Schneverdin
 gen\, Deutschland;X-APPLE-RADIUS=100;X-TITLE=Kino LichtSpiel:geo:53.115125
 ,9.791724
END:VEVENT
END:VCALENDAR