BEGIN:VCALENDAR
VERSION:2.0
PRODID:-//wp-events-plugin.com//7.2.3.1//EN
BEGIN:VEVENT
UID:9103@kulturverein-schneverdingen.de
DTSTART:20261003T173000Z
DTEND:20261003T204500Z
DTSTAMP:20251222T152203Z
URL:https://kulturverein-schneverdingen.de/events/konzert-mit-lochormotion
 /
SUMMARY:Konzert mit LoChorMotion
DESCRIPTION:Lüneburger Popchor singt in Schneverdingen\n\nWenn die Knusper
 hexe Hänsel und Gretel für Vertreter einer lästigen\, gern zu unpassend
 en Zeiten klingelnden Glaubensgemeinschaft hält und ihnen die Tür vor de
 r Nase zuschlägt\, dann merkt man: Missverständnisse gibt es überall\, 
 selbst im Zauberwald. Und zwar besonders dann\, wenn ein künstlich intell
 igenter Spiegel im Hintergrund die Strippen zieht. Dass in solchen Fällen
  einzig die Musik die Macht hat\, die verschlungenen Erzählstränge zu en
 twirren\, beweist der Lüneburger Rock-und Pop Chor LoChorMotion bei bei s
 einem Konzert. Wer Lust auf einen märchenhaften Konzertabend hat\, sollte
  sich diesen Termin vormerken.\n\nEintritt VVK 16 €/ TK 20 € zzgl. Bea
 rbeitungsgebühren
ATTACH;FMTTYPE=image/jpeg:https://kulturverein-schneverdingen.de/wp-conten
 t/uploads/2025/10/Chorfoto_LoChorMotion_abgebissen.jpg
CATEGORIES:Abends,Aktuell,Archiv,Barrierefrei,Begegnungen/zusammen
 sein,Bei Regenwetter,Kommende Veranstaltungen,Konzert,Mit der Familie,Mit
 mehreren Leuten/wenn Besuch kommt,Tageszeit,Veranstaltungsart
LOCATION:Kulturhaus "Alte Schlachterei"\, Am Markt 2 \, Schneverdingen\, 29
 640\, Deutschland
GEO:53.115125;9.791724
X-APPLE-STRUCTURED-LOCATION;VALUE=URI;X-ADDRESS=Am Markt 2 \, Schneverdinge
 n\, 29640\, Deutschland;X-APPLE-RADIUS=100;X-TITLE=Kulturhaus \"Alte Schla
 chterei\":geo:53.115125,9.791724
END:VEVENT
END:VCALENDAR