BEGIN:VCALENDAR
VERSION:2.0
PRODID:-//wp-events-plugin.com//7.2.3.1//EN
BEGIN:VEVENT
UID:7638@kulturverein-schneverdingen.de
DTSTART:20240427T080000Z
DTEND:20240427T094500Z
DTSTAMP:20240319T085141Z
URL:https://kulturverein-schneverdingen.de/events/kleine-kuenstlerinnen-ga
 nz-gross-spezial/
SUMMARY:"Kleine Künstler*innen ganz groß" SPEZIAL
DESCRIPTION:Unsere kleinen Künstler*innen treffen sich für gewöhnlich im
 mer am 2. Samstag eines Monats\, um gemeinsam auf den Spuren der ganz gro
 ßen Berühmtheiten der Kunstszene zu wandern. Dieses Mal ist es etwas and
 ers\, daher laden wir alle interessierten Kinder zum "Kleine Künstler*inn
 en ganz groß SPEZIAL" ein.\n\nTraditionell dürfen Grundschulkinder für 
 unsere KulturNacht große Flaggen gestalten\, die die Stadt schmücken. Un
 sere kleinen Künstlerinnen und Künstler dürfen sich nun anschließen un
 d ebenfalls bunte Werke gestalten\, die am 29. Juni im Rahmen der Kulturna
 cht den Walter-Peters-Park zieren werden. Bei unserem "Spezial" am 27. Apr
 il werden die Kinder diese tollen Flaggen gemeinsam mit unseren Leiterinne
 n Hanna Wehmeier\, Petra Ziehmann und Barbara Frömming anfertigen. Dabei 
 sollen natürlich auch wieder berühmte Künstlerinnen und Künstler als V
 orbild dienen: Hundertwasser\, Haring und Warhol werden unsere Paten sein.
 \n\n\n\nDer Kurs ist für Kinder im Alter von 5–8 Jahren. Die Teilnahme 
 ist kostenlos\, eine Mitgliedschaft im Kulturverein ist erforderlich. Anme
 ldungen über unseren Ticketshop.\n\n\n\n&nbsp\;\n\nWer zuvor noch nicht a
 m Kurs teilgenommen hat\, hier ein paar wichtige Infos:\nDer Kurs findet v
 on 10–11.45 Uhr in der KulturStellmacherei (Oststraße 31) statt. Die El
 tern bringen die Kinder und holen sie wieder ab\, sind also beim Kurs selb
 st nicht dabei. Wir reichen einen kleinen Snack für die Kinder in der Pau
 se (Äpfel\, Gurken etc.). Es wäre super\, wenn die Kinder eine gefüllte
  Trinkflasche mitbringen.\nHier findet ihr eine Einverständniserklärung.
  Darin geht es darum\, dass die Eltern oder Erziehungsberechtigte uns erla
 uben\, für Nachberichte in Presse und Social Media Aufnahmen der Kinder b
 eim Werkeln zu machen und diese Aufnahmen dann zu veröffentlichen. Außer
 dem fragen wir in der Einverständniserklärung auch noch nach Allergien u
 nd Unverträglichkeiten der Kinder. Also gerne den Bogen ausfüllen und mi
 tbringen am Tag des Kurses. Der Kurs ist kostenlos\, wir freuen uns aber n
 atürlich immer über ein paar Spenden für den Kauf von Material\, wir ha
 ben daher eine kleine Spendendose aufgebaut an dem Tag. Eine Familienmitgl
 iedschaft im Kulturverein ist erforderlich.\nEinverständniserklärung_KKG
 G
ATTACH;FMTTYPE=image/jpeg:https://kulturverein-schneverdingen.de/wp-conten
 t/uploads/2023/01/KKGG-ausgebucht.png
CATEGORIES:Aktuell,Anlass/Voraussetzung,Archiv,Barrierefrei,Bei
 Regenwetter,Eintritt frei,Kommende Veranstaltungen,Kunst,Mit der
 Familie,Soziokultur,Tageszeit,Tagsüber,Veranstaltungsart
LOCATION:Kulturhaus "Alte Schlachterei"\, Am Markt 2 \, Schneverdingen\, 29
 640\, Deutschland
GEO:53.115125;9.791724
X-APPLE-STRUCTURED-LOCATION;VALUE=URI;X-ADDRESS=Am Markt 2 \, Schneverdinge
 n\, 29640\, Deutschland;X-APPLE-RADIUS=100;X-TITLE=Kulturhaus \"Alte Schla
 chterei\":geo:53.115125,9.791724
END:VEVENT
END:VCALENDAR