BEGIN:VCALENDAR
VERSION:2.0
PRODID:-//wp-events-plugin.com//7.2.3.1//EN
BEGIN:VEVENT
UID:8020@kulturverein-schneverdingen.de
DTSTART:20241214T080000Z
DTEND:20241214T100000Z
DTSTAMP:20241119T135425Z
URL:https://kulturverein-schneverdingen.de/events/kleine-kuenstlerinnen-ga
 nz-gross-2024-12-14/
SUMMARY:Kleine Künstler*innen ganz groß
DESCRIPTION:Auf den Spuren von Berühmtheiten wie Hundertwasser\, Richter\,
  Banksy und Co.: Kleine Künstler*innen lernen von den Großen! Der Kultur
 verein Schneverdingen e.V. lädt immer am 2. Samstag im Monat von 10.00 bi
 s 11.45 Uhr alle 5-8-Jährigen ein\, mit uns kreativ zu werden. Wir erkund
 en die Techniken berühmter Künstler*innen\, basteln gemäß der Jahresze
 iten\, verleihen durch Upcycling Materialien neues Leben und stellen fast 
 nebenbei den Bezug zur Kunstgeschichte her. Unser Team besteht aus (Kunst-
 )pädagog*innen\, Kunsttherapeut*innen und technischen Zeichner*innen. Wir
  arbeiten zudem mit Künstlern und Künstlerinnen aus der Region zusammen\
 , die bestimmt gerne mal vorbeikommen und von ihrer Arbeit berichten.\n\n\
 nUnser Kreativem\nv. links: Hanna Wehmeier\, Gaby Stolte-Schirmer\, Janina
  Weber\, Petra Ziehmann\; nicht im Bild: Barbara Frömming\, Lili Evers\, 
 Annica Laging\n\nIhr habt Spaß am Basteln\, Zeichnen und Malen? Dann seid
  dabei!\nDie Teilnahme ist kostenlos\, wir freuen uns über eine Spende f
 ür die Materialien. Eine Familienmitgliedschaft im Kulturverein ist erfor
 derlich.\n\nAnmeldungen über unseren Ticketshop.\n\nZum Ablauf:\n\nBeginn
  des Kurses ist 10 Uhr\, der Kurs findet bei uns in der KulturStellmachere
 i (Oststraße 31) statt. Nachdem sich die Eltern verabschiedet haben\, beg
 innen die Kinder meist mit einer kurzen\, theoretischen Einheit\, bevor es
  dann schnell an die kreative Praxis geht. Unter Anleitung von mindestens 
 zwei Kursleiterinnen legen die Kinder los und werden stets durch das Proje
 kt begleitet. Es gibt eine kleine Pause\, in der wir einen gesunden Snack 
 (Obst &amp\; Gemüse) anbieten. Am Ende eines jeden Kurses gibt es eine Ab
 schlussrunde\, wo alle Kinder ihre Werke vorstellen können und in einer k
 leinen Kunstbesprechung über die Bilder der anderen gesprochen wird.\nDie
  Kinder sollten eine gefüllte Trinkflasche mitbringen. Außerdem ist es r
 atsam\, dass die Kinder Klamotten tragen\, die eventuell auch mal einen Fa
 rbspritzer vertragen könnten. Wir würden gerne für unsere Berichterstat
 tung Fotos machen vom Kurs. Dafür unterschreiben die Eltern eine Einverst
 ändniserklärung\, die zu Beginn des Kurses ausgelegt wird. Wenn die Elte
 rn nicht möchten\, dass Fotos der Kinder erstellt werden\, ist das natür
 lich auch vollkommen in Ordnung. In dem Fall müssten die Eltern ebenfalls
  das Dokument entsprechend ausfüllen und uns dadurch schriftlich mitteile
 n\, dass das Einverständnis nicht besteht.
ATTACH;FMTTYPE=image/jpeg:https://kulturverein-schneverdingen.de/wp-conten
 t/uploads/2023/01/KKGG-ausgebucht.png
CATEGORIES:Aktuell,Archiv,Barrierefrei,Begegnungen/zusammen sein,Bei
 Regenwetter,Eintritt frei,Kommende
 Veranstaltungen,Sonstiges,Tageszeit,Tagsüber,Veranstaltungsart
LOCATION:Kulturhaus "Alte Schlachterei"\, Am Markt 2 \, Schneverdingen\, 29
 640\, Deutschland
GEO:53.115125;9.791724
X-APPLE-STRUCTURED-LOCATION;VALUE=URI;X-ADDRESS=Am Markt 2 \, Schneverdinge
 n\, 29640\, Deutschland;X-APPLE-RADIUS=100;X-TITLE=Kulturhaus \"Alte Schla
 chterei\":geo:53.115125,9.791724
END:VEVENT
END:VCALENDAR