BEGIN:VCALENDAR
VERSION:2.0
PRODID:-//wp-events-plugin.com//7.2.3.1//EN
BEGIN:VEVENT
UID:9873@kulturverein-schneverdingen.de
DTSTART:20270305T170000Z
DTEND:20270305T194500Z
DTSTAMP:20260422T092538Z
URL:https://kulturverein-schneverdingen.de/events/klassik-im-kulturhaus-wo
 jciech-waleczek-klavier-2/
SUMMARY:Klassik im Kulturhaus: WOJCIECH WALECZEK\, KLAVIER
DESCRIPTION:„Liszt meets Queen“\n\nWOJCIECH WALECZEK\, KLAVIER\n\nWir s
 ind sehr froh darüber\, dass wir diesen herausragenden Musiker im Rahmen 
 seiner Europa-Tournee 2026 nach Schneverdingen locken konnten. Wojciech Wa
 leczek ist ein polnischer Pianist der Extraklasse\, bekannt aus einer komp
 romissloseren Stellungnahme zur Aufführungskunst. Ein absolutes Highlight
 !\n\nKooperation mit der Deutsch-Polnischen Gesellschaft\n\n&nbsp\;\n\n&nb
 sp\;
ATTACH;FMTTYPE=image/jpeg:https://kulturverein-schneverdingen.de/wp-conten
 t/uploads/2025/11/thumbnail_Waleczek-1.jpg
CATEGORIES:Abends,Aktuell,Anlass/Voraussetzung,Archiv,Begegnungen/zusammen
 sein,Bei Regenwetter,Kommende Veranstaltungen,Konzert,Mit der Familie,Mit
 mehreren Leuten/wenn Besuch kommt,Sonstiges,Tageszeit,Veranstaltungsart
LOCATION:Kulturhaus "Alte Schlachterei"\, Am Markt 2 \, Schneverdingen\, 29
 640\, Deutschland
GEO:53.115125;9.791724
X-APPLE-STRUCTURED-LOCATION;VALUE=URI;X-ADDRESS=Am Markt 2 \, Schneverdinge
 n\, 29640\, Deutschland;X-APPLE-RADIUS=100;X-TITLE=Kulturhaus \"Alte Schla
 chterei\":geo:53.115125,9.791724
END:VEVENT
END:VCALENDAR