BEGIN:VCALENDAR
VERSION:2.0
PRODID:-//wp-events-plugin.com//7.2.3.1//EN
BEGIN:VEVENT
UID:7656@kulturverein-schneverdingen.de
DTSTART:20240727T170000Z
DTEND:20240727T193000Z
DTSTAMP:20240522T171930Z
URL:https://kulturverein-schneverdingen.de/events/klassik-im-atelier-de-br
 uycker-trio-schmuck/
SUMMARY:Klassik im Atelier de Bruycker: Trio Schmuck
DESCRIPTION:TRIO SCHMUCK: Ein junges Ensemble mit Sayaka Schmuck (Klarinett
 e)\, Mareike Neumann (Violine und Viola) und dem Pianisten Andreas Hering\
 , das feinste Kammermusik auf höchstem Niveau bietet. Die drei preisgekr
 önten jungen Musikerinnen und Musiker verbindet eine langjährige Bühnen
 erfahrung\, ausgezeichnete Beherrschung ihrer Instrumente und die Liebe zu
 r Kammermusik. Das Publikum zeigt sich immer wieder begeistert von den cha
 rismatischen Auftritten des Trios sowie den vielfältigen Programmen: Orig
 inalkompositionen für diese Besetzung u.a. von Mozart und Bruch\, mitrei
 ßende Bearbeitungen der Tangos von Piazzolla bis hin zu Stravinskys „Ge
 schichte vom Soldaten“ in einer eigenen und einzigartigen Triofassung mi
 t Schauspieler. So bietet das Trio sowohl rein konzertante Programme\, auf
  Wunsch mit charmanten Einführungen\, als auch Programme mit professionel
 len Sprechern und Schauspielanteilen.\n\nTRIO SCHMUCK\n\nmit\n\nSayaka Sch
 muck\, Klarinette\n\nMareike Neumann\, Viola und Violine\n\nAndreas Hering
 \, Klavier\n\nVVK 23 €/TK 25 €
ATTACH;FMTTYPE=image/jpeg:https://kulturverein-schneverdingen.de/wp-conten
 t/uploads/2024/04/Kopie-von-English-Conversation-37.png
CATEGORIES:Aktuell
LOCATION:Atelier de Bruycker\, Höpen 4\, Schneverdingen\, 29640\, Deutschl
 and
GEO:53.136216;9.798345599999948
X-APPLE-STRUCTURED-LOCATION;VALUE=URI;X-ADDRESS=Höpen 4\, Schneverdingen\,
  29640\, Deutschland;X-APPLE-RADIUS=100;X-TITLE=Atelier de Bruycker:geo:53
 .136216,9.798345599999948
END:VEVENT
END:VCALENDAR