BEGIN:VCALENDAR
VERSION:2.0
PRODID:-//wp-events-plugin.com//7.2.3.1//EN
BEGIN:VEVENT
UID:6625@kulturverein-schneverdingen.de
DTSTART:20220702T170000Z
DTEND:20220702T200000Z
DTSTAMP:20220321T142202Z
URL:https://kulturverein-schneverdingen.de/events/klassik-im-atelier-de-br
 uycker-prisma-freunde/
SUMMARY:Klassik im Atelier de Bruycker: PRISMA & Freunde
DESCRIPTION:Telemandolin\nHommage à Georg Philipp Telemann\nPRISMA &amp\; 
 friends\nGeorg Philipp Telemann zählt mit einem Oeuvre\, das über 3600 W
 erke aller musikalischen Gattungen umfasst\, zu den produktivsten Komponis
 ten der Musikgeschichte. Als Autodidakt hat er Flöte\, Oboe\, Chalumeau\,
  Gambe\, Kontrabass und Bassposaune spielen gelernt. Ist er jemals der Man
 doline begegnet? Wartet die Welt noch auf das Auffinden einer unbekannten 
 Sammlung Mandolinen-Fantasias\, die jahrhundertelang verschollen lagen wie
  beispielsweise die jüngst wiederentdeckt Sammlung von Fantasias für Vio
 la da Gamba?\nAnders als einige seiner Kollegen wie Händel oder Hasse\, d
 ie die Mandoline in einigen ihrer Werke verwendeten\, hat Telemann ihn ver
 mutlich nie gehört\, diesen süßen\, lebendigen Klang des kleinen Zupfin
 struments – Telemann hat Deutschland nicht oft verlassen\, und die Mando
 line war vor allem in südlicheren Ländern in Gebrauch.\nDas Ensemble int
 ernationaler Musiker*innen – PRISMA und für dieses Projekt eigens zusam
 mengestellte musikalische Freund*innen – präsentiert eine Blütenlese a
 us Telemanns Werken\, die die Meisterschaft und den Abwechslungsreichtum d
 ieses großen Komponisten zeigen. Ein italienisches Concerto\, eine franz
 ösische Suite\, eine Kammer-Partita… dazu kommen Werke aus der Umgebung
  Telemanns: eine sprudelnde\, lebenslustige Triosonate des Hamburger Kompo
 nisten Pierre Prowo und das fröhliche Doppelkonzert in C-Dur von Johann G
 ottlieb Graun.\nAuf der ersten CD des Quartetts PRISMA – „SEASONS“ (
 2018) – sind neben ihren eigenen frischen Arrangements italienischer Bar
 ockmusik auch traditionelle Tanzstücke zu hören wie die Tarantella\, Cia
 conna und Canario. Ihre zweite CD „IL TRANSILVANO“ (2020) verbindet Vo
 lks- und Kunstmusik aus Ungarn mit dem musikalischen Erbe des barocken Ita
 lien.\nDie vier Mitglieder von PRISMA trafen sich zum ersten Mal einige Wo
 chen vor dem Internationalen Biber Kammermusik-Wettbewerb in Österreich 2
 015: aus einer Laune heraus meldeten sie sich an\, reisten für eine Woche
  nach Linz\, probten intensiv auf dem Hotelzimmer und kamen etwas überras
 cht und zutiefst beglückt mit dem ersten Preis nach hause. Ein Jahr spät
 er wurde das Quartett ins EU-geförderte Ensembleprogramm „Eeemering“ 
 aufgenommen\, dem sie bis heute verbunden sind\, und ist gern gesehener Ga
 st an vielen schönen Orten: Valletta International Baroque Festival\, Yor
 k Early Music Festival\, Mozartfest Würzburg\, Wunderkammer-Festival Trie
 ste\, Opus Amadeus Festival Istanbul\, Zentrum für alte Musik Köln\, Inn
 sbrucker Festwochen u.v.a.\nwww.prisma-music.eu\nPRISMA &amp\; friends:\nA
 lon Sariel – Mandoline/Theorbe\nElisabeth Champollion – Blockflöte\nF
 ranciska Anna Hajdu\, Javi Aguilar Bruno – Violine\nFrancesca Venturi Fe
 rriolo – Viola\nPatrick Sepec – Violoncello\nVincent Kibildis – Harf
 e\nCharlotte Schwenke – Violone\nProgramm Prisma_2.7.22\nFoto: Jürgen W
 ahnschaffe\nEintritt\nVVK  25 €/ TK 28 €\nGemeinsame Veranstaltung mi
 t dem Atelier de Bruycker.
ATTACH;FMTTYPE=image/jpeg:https://kulturverein-schneverdingen.de/wp-conten
 t/uploads/2022/02/IMG_0205-1-scaled.jpg
CATEGORIES:Abends,Aktuell,Anlass/Voraussetzung,Archiv,Begegnungen/zusammen
 sein,Bei Regenwetter,Kommende Veranstaltungen,Konzert,Mit der Familie,Mit
 mehreren Leuten/wenn Besuch kommt,Veranstaltungsart
LOCATION:Atelier de Bruycker\, Höpen 4\, Schneverdingen\, 29640\, Deutschl
 and
GEO:53.136216;9.798345599999948
X-APPLE-STRUCTURED-LOCATION;VALUE=URI;X-ADDRESS=Höpen 4\, Schneverdingen\,
  29640\, Deutschland;X-APPLE-RADIUS=100;X-TITLE=Atelier de Bruycker:geo:53
 .136216,9.798345599999948
END:VEVENT
END:VCALENDAR