BEGIN:VCALENDAR
VERSION:2.0
PRODID:-//wp-events-plugin.com//7.2.3.1//EN
BEGIN:VEVENT
UID:7579@kulturverein-schneverdingen.de
DTSTART:20240928T130000Z
DTEND:20240928T153000Z
DTSTAMP:20240527T075606Z
URL:https://kulturverein-schneverdingen.de/events/kinder-und-familienkonze
 rt-das-eselein/
SUMMARY:Kinder- und Familienkonzert "Das Eselein"
DESCRIPTION:Tag zwei des 1. Schneverdinger Lautenherbstes! Ein abwechslungs
 reiches Programm für die ganze Familie mit Theater und Musik.\n\n„Das E
 selein“. Ein Märchen frei nach den  Gebrüdern Grimm\, versehen mit 
 Musik\n\n \n\nEs war einmal ein Königspaar\, das sich lange ein Kind wü
 nschte. Als es endlich geboren wurde\, war es ein Kind in Gestalt eines Es
 els. Die Eltern nahmen es an und das Eselein entwickelte sich prächtig. E
 ines Tages hörte es einen Lautenspieler. Das Eselein fand die Musik so sc
 hön\, dass es unbedingt das Lautenspielen lernen wollte. Wird ihm das gel
 ingen? Mit seinem Freund Hans geht es um die Welt. Wohin führt die Reise?
  Eine Reise mit Musik!\n\n \n\nDance de Hercules oft maticine (aus „Dan
 serye“)\n\n 	Susato (1510/15-nach 1570)\n\nAch du lieber Augustin\n\nÖs
 terreich/Trad. (um 1800)\n\nTombeau de Mr.  francois Ginter - Allemande d
 e St-Luc\nMs. CZ-PnmLb210\, S.17\n\nAuf der Lüneburger Heide\n\nT: H. Lö
 ns/M: F. Jöde\n\nDown by the Sally Gardens\n\nIrland/Trad.\n\nFolia Espag
 nol \n\n(aus einem Manuskript für das Cithrinchen\, Pl-Kj40627)\n\nSpanie
 n/Trad.\n\nKommt ein Vogel geflogen\n\nÖsterreich/Trad.\n\nWeißt Du wie 
 viel Sternlein stehen …\n\nT: J.W. Hey/M: Trad.\n\nA lieta vita /L'Innam
 orato (aus:  Balletti a cinque voci\, 1596)\n\n 	Gastoldi\n\nBallo del Gr
 an Duca (Alta Carreta)\n\nnach  Livio Lupi da Caravaggio (um 1607)\n\n(Il
  Libro di gagliarda\, tordiglione\, passa e mezzo\, canari e passeggi \, 1
 607)\n\nGavotten (aus „Tänze aus Terpsichore“)\n\n 	Praetorius (1571/
 72-1621)\n\nSchiarazula Marazula (= Firlefanz)\n(aus  „Il primo libro d
 e' balli“\, 1578)\n\n 	Mainerio (1530/40-1582)\n\nEs spielen die Mitglie
 der der  TheaterSchmiede. Calluna-Bühne - Schneverdingen\n\n&nbsp\;\n\n
 Das Eselein: Hannes Norden\n\nFreund Hans: Richard Behrens\n\nDie Lautenle
 hrer: Werner Faust/Michael Treder\n\nKönig und alter König: Alexandra Fa
 ndrich\n\nKönigin und  Königstochter: Sophie Wächtler\n\nDiener: Sheri
 n Hassan\n\nSprecherin 1: Carlotta Fechner\n\nSprecherin 2: Lilly-Eve Henn
 ing\n\nSprecherin 3: Dina Weerts\n\n \n\n \n\nInszenierung:\n\nKarin Mic
 haels und die Kinder der TheaterSchmiede im Kulturverein\n\n&nbsp\;\n\nArr
 angements:\nMichael Treder\n\n&nbsp\;\n\nTechnische Unterstützung: \n\nAn
 dreas Voigt\n\n&nbsp\;\n\nKostüme: \n\nElfie Henning\n\n&nbsp\;\n\nAls V
 orlage diente „Das Eselein“\, herausgegeben von der Deutschen Lautenge
 sellschaft e.V. in Zusammenarbeit mit der Französischen Lautengesellschaf
 t\, Frankfurt 2013. Das Märchen der Gebrüder Grimm wurde für diese Vorl
 age bearbeitet von Joachim Domning. Die Liedauswahl erfolgte durch Beate D
 ittmann. Für die Vorstellung im Rahmen des Schneverdinger Lautenherbstes 
 2024 erfolgte eine Überarbeitung des Textes mit Ergänzungen durch Karin 
 Michaels und Michael Treder. Die ursprüngliche Liedauswahl wurde  verän
 dert.
ATTACH;FMTTYPE=image/jpeg:https://kulturverein-schneverdingen.de/wp-conten
 t/uploads/2024/02/Kopie-von-English-Conversation-21.png
CATEGORIES:Aktuell,Anlass/Voraussetzung,Barrierefrei,Begegnungen/zusammen
 sein,Bei Regenwetter,Kommende Veranstaltungen,Konzert,Mit der Familie,Mit
 mehreren Leuten/wenn Besuch
 kommt,Tageszeit,Tagsüber,Theater,Veranstaltungsart
LOCATION:Grundschule in Hansahlen\, Am Jordan 7-9\, Schneverdingen\, 29640\
 , Deutschland
X-APPLE-STRUCTURED-LOCATION;VALUE=URI;X-ADDRESS=Am Jordan 7-9\, Schneverdin
 gen\, 29640\, Deutschland;X-APPLE-RADIUS=100;X-TITLE=Grundschule in Hansah
 len:geo:0,0
END:VEVENT
END:VCALENDAR