BEGIN:VCALENDAR
VERSION:2.0
PRODID:-//wp-events-plugin.com//7.2.3.1//EN
BEGIN:VEVENT
UID:8501@kulturverein-schneverdingen.de
DTSTART:20250621T080000Z
DTEND:20250621T094500Z
DTSTAMP:20250603T140107Z
URL:https://kulturverein-schneverdingen.de/events/junge-kreative-ganz-gros
 s-2025-06-21/
SUMMARY:Junge Kreative ganz groß
DESCRIPTION:Der Kreativkurs „Junge Kreative ganz groß“ bietet Kindern 
 im Alter von 8 bis 10 Jahren die Möglichkeit\, ihre kreative Seite zu ent
 decken und zu entfalten. Unter dem Motto „Kunst für Entdeckerinnen“ s
 teht das spielerische Erforschen verschiedener künstlerischer Techniken i
 m Mittelpunkt. An jedem dritten Samstag im Monat haben die jungen Teilnehm
 enden die Gelegenheit\, mit Farben\, Formen und Materialien zu experimenti
 eren. Ob Malerei\, Zeichnung\, Collage oder plastisches Gestalten – der 
 Kurs vermittelt Grundlagen und fördert zugleich die individuelle Ausdruck
 skraft. Dabei werden nicht nur handwerkliche Fähigkeiten geschult\, sonde
 rn auch Fantasie und Selbstbewusstsein gestärkt. In einer inspirierenden 
 und wertschätzenden Atmosphäre entstehen einzigartige Kunstwerke\, die a
 m Ende des Kurses präsentiert werden können. Der Kurs ist kostenfrei\, e
 rfordert jedoch eine Familienmitgliedschaft im Kulturverein Schneverdingen
 .\n\nAnmeldung über unseren Ticketshop.\n\n&nbsp\;\n\nNEU:\n\nWir gestalt
 en unser Kreativangebot für Kinder neu: Der bestehende Kurs wird weiterhi
 n den Namen „Kleine Künstler*innen ganz groß“ tragen. Allerdings än
 dert sich das Alter der Teilnehmenden auf 5-7 Jahre (vorher 5-8). Der Kurs
  steht unter dem Motto „Kunst für Entdecker*innen“. Der Kurs wird imm
 er am 2. Samstag eines Monats stattfinden.\nNeu hinzugekommen ist der Kurs
  "Junge Kreative ganz groß"\, der ebenfalls unter dem Motto "Kunst für E
 ntdecker*innen" steht. Dieser ist für Kinder im Alter von 8–10 Jahren g
 eeignet und findet immer am 3. Samstag eines Monats statt.\n\n&nbsp\;\n\nZ
 um Ablauf:\n\nBeginn des Kurses ist 10 Uhr\, der Kurs findet bei uns im Ku
 lturhaus "Alte Schlachterei" (Am Markt 2) statt. Nachdem sich die Eltern v
 erabschiedet haben\, beginnen die Kinder meist mit einer kurzen\, theoreti
 schen Einheit\, bevor es dann schnell an die kreative Praxis geht. Unter A
 nleitung von mindestens zwei Kursleiterinnen legen die Kinder los und werd
 en stets durch das Projekt begleitet. Es gibt eine kleine Pause\, in der w
 ir einen gesunden Snack (Obst &amp\; Gemüse) anbieten. Am Ende eines jede
 n Kurses gibt es eine Abschlussrunde\, wo alle Kinder ihre Werke vorstelle
 n können und in einer kleinen Kunstbesprechung über die Bilder der ander
 en gesprochen wird.\nDie Kinder sollten eine gefüllte Trinkflasche mitbri
 ngen. Außerdem ist es ratsam\, dass die Kinder Klamotten tragen\, die eve
 ntuell auch mal einen Farbspritzer vertragen könnten. Wir würden gerne f
 ür unsere Berichterstattung Fotos machen vom Kurs. Dafür unterschreiben 
 die Eltern eine Einverständniserklärung\, die zu Beginn des Kurses ausge
 legt wird. Wenn die Eltern nicht möchten\, dass Fotos der Kinder erstellt
  werden\, ist das natürlich auch vollkommen in Ordnung. In dem Fall müss
 ten die Eltern ebenfalls das Dokument entsprechend ausfüllen und uns dadu
 rch schriftlich mitteilen\, dass das Einverständnis nicht besteht.
ATTACH;FMTTYPE=image/jpeg:https://kulturverein-schneverdingen.de/wp-conten
 t/uploads/2025/05/WhatsApp-Image-2025-04-17-at-14.22.48.jpeg
CATEGORIES:Aktuell,Anlass/Voraussetzung,Archiv,Barrierefrei,Begegnungen/zu
 sammen sein,Bei Regenwetter,Eintritt frei,Kommende
 Veranstaltungen,Kunst,Mit der Familie,Mit mehreren Leuten/wenn Besuch
 kommt,Sonstiges,Soziokultur,Tageszeit,Tagsüber,Veranstaltungsart
LOCATION:Kulturhaus "Alte Schlachterei"\, Am Markt 2\, Schneverdingen\, 296
 40\, Deutschland
GEO:53.115125;9.791724
X-APPLE-STRUCTURED-LOCATION;VALUE=URI;X-ADDRESS=Am Markt 2\, Schneverdingen
 \, 29640\, Deutschland;X-APPLE-RADIUS=100;X-TITLE=Kulturhaus \"Alte Schlac
 hterei\":geo:53.115125,9.791724
END:VEVENT
END:VCALENDAR