BEGIN:VCALENDAR
VERSION:2.0
PRODID:-//wp-events-plugin.com//7.2.3.1//EN
BEGIN:VEVENT
UID:6466@kulturverein-schneverdingen.de
DTSTART:20211211T173000Z
DTEND:20211211T203000Z
DTSTAMP:20211209T142056Z
URL:https://kulturverein-schneverdingen.de/events/jazzy-christmas-mit-alen
 -lesinger-friends/
SUMMARY:***Verschoben - neuer Termin : 17. Dezember 2022***Jazzy Christmas 
 mit Alen Lešinger & Friends
DESCRIPTION:Besondere Zeiten erfordern besondere Maßnahmen. Leider müssen
  wir Ihnen mitteilen\, dass die Veranstaltung "Jazzy Christmas" verschoben
  werden muss.\nWir können schon heute den voraussichtlichen Ersatztermin 
 verkünden:\n17.12.2022\, 19.30 Uhr\nBitte informieren Sie sich zeitnah zu
 r Veranstaltung. Die bereits gekauften Tickets behalten ihre Gültigkeit.
 \nEs erwartet uns ein ganz außergewöhnliches JAZZ-Weihnachtskonzert! Die
  Peter-und-Paul-Kirche öffnet die Türen für internationale Weihnachtskl
 assiker. Das Programm umfasst individuelle Jazz-Interpretationen von „Le
 t it Snow“\, über „Santa Claus Is Coming To Town“ bis hin zu „Sti
 lle Nacht“ . Auf dieser wunderbaren Reise durch das „Winterwonderland
 “\, die Zeit der Lichter und Herzen\, werden die Vocalisten Eva und Matt
 hias Lüderitz den Abend mit gefühlvollen Gesangsdarbietungen krönen. Da
 s musikalische Jazz-Quartett überrascht und verzaubert mit klassischen El
 ementen und erfrischenden Tönen! Der Kulturverein Schneverdingen e.V. lä
 dt gemeinsam mit der Kirchengemeinde Peter u. Paul  zu „Jazzy Christmas
 “ - einem ganz besonderen Weihnachtskonzert ein!\n\nEva und Matthias Lü
 deritz - Gesang\nAxel Jankowski - Saxophon \nRobby Schön - Schlagzeug\nJ
 örg Florin - Piano\nAlen Lešinger - Kontrabass\, Gitarre\, Arrangements\
 nDas Konzert findet unter Anwendung der 2G-Regelung und statt.\nKontaktfor
 mular_KV\nEintritt\nVVK 16 €   AK 19 €
ATTACH;FMTTYPE=image/jpeg:https://kulturverein-schneverdingen.de/wp-conten
 t/uploads/2021/10/20211209_151729-scaled.jpg
CATEGORIES:Abends,Aktuell,Anlass/Voraussetzung,Archiv,Barrierefrei,Begegnu
 ngen/zusammen sein,Bei Regenwetter,Kommende Veranstaltungen,Konzert,Mit
 der Familie,Mit mehreren Leuten/wenn Besuch
 kommt,Tageszeit,Veranstaltungsart
LOCATION:Peter und Paul Kirche\, Friedensstraße\, Schneverdingen\, 29640\,
  Deutschland
GEO:53.1170322;9.785943599999996
X-APPLE-STRUCTURED-LOCATION;VALUE=URI;X-ADDRESS=Friedensstraße\, Schneverd
 ingen\, 29640\, Deutschland;X-APPLE-RADIUS=100;X-TITLE=Peter und Paul Kirc
 he:geo:53.1170322,9.785943599999996
END:VEVENT
END:VCALENDAR