BEGIN:VCALENDAR
VERSION:2.0
PRODID:-//wp-events-plugin.com//7.2.3.1//EN
BEGIN:VEVENT
UID:6830@kulturverein-schneverdingen.de
DTSTART:20230503T170000Z
DTEND:20230503T190000Z
DTSTAMP:20230421T103057Z
URL:https://kulturverein-schneverdingen.de/events/jazz-jam-session-mit-ope
 ner-alen-lesinger-friends-2/
SUMMARY:***fällt aus*** Jazz Jam Session mit Opener "Alen Lešinger & Frie
 nds"
DESCRIPTION:\nLeider muss die Auftaktveranstaltung dieser Reihe am 3. Mai k
 rankheitsbedingt ausfallen. Am 7. Juni geht es dann endlich los!\nIm Mai\,
  Juni\, Juli und September an jedem 1. Mittwoch im Monat: \nJazz Jam Sessi
 on (LIVE) im oder am Schafstall am Heidegarten\nStart um 19 Uhr\nEinsteige
 r willkommen! Eintritt frei!\nJazz Jam Session am Schafstall am Heidegarte
 n! Alle Jazz-Musiker und begeisterte Zuhörer sind herzlich eingeladen\, m
 itzumachen und die Jazz Jam Session in dieser Region wieder zu etablieren!
 \nDie Improvisation und der Austausch mit anderen Musikern ist für jeden 
 Jazzer und jeden Musikliebhaber immer wieder aufs Neue ein einmaliges und 
 individuelles Erlebnis!  Bei schönem Wetter Open-Air. Wir freuen uns auf
  Euch!\nVon 19 - 21 Uhr heizen "Alen Lešinger &amp\; Friends" mit verschi
 edenen Gästen auf die anschließende Session ein!\n \n
ATTACH;FMTTYPE=image/jpeg:https://kulturverein-schneverdingen.de/wp-conten
 t/uploads/2022/12/IMG-20230112-WA0008.jpg
CATEGORIES:Abends,Aktuell,Archiv,Eintritt frei,Kommende
 Veranstaltungen,Konzert,Mit mehreren Leuten/wenn Besuch
 kommt,Tageszeit,Veranstaltungsart
LOCATION:Schafstall am Heidegarten\, Overbeckstraße 65\, Schneverdingen\, 
 29640\, Deutschland
GEO:53.116232;9.792344
X-APPLE-STRUCTURED-LOCATION;VALUE=URI;X-ADDRESS=Overbeckstraße 65\, Schnev
 erdingen\, 29640\, Deutschland;X-APPLE-RADIUS=100;X-TITLE=Schafstall am He
 idegarten:geo:53.116232,9.792344
END:VEVENT
END:VCALENDAR