BEGIN:VCALENDAR
VERSION:2.0
PRODID:-//wp-events-plugin.com//7.2.3.1//EN
BEGIN:VEVENT
UID:6191@kulturverein-schneverdingen.de
DTSTART:20220717T090000Z
DTEND:20220717T120000Z
DTSTAMP:20220601T112845Z
URL:https://kulturverein-schneverdingen.de/events/jazz-fruehschoppen-mit-a
 len-lesinger-friends/
SUMMARY:Jazz-Frühschoppen mit Alen Lešinger & Friends
DESCRIPTION:Von 11 bis 14 Uhr heizen "Alen Lešinger &amp\; Friends" ein!\n
 Jazz-Standards der Extraklasse\nAlen Lesinger                Kont
 rabass &amp\; Gitarre\nAxel Jankowski              Saxophon\nJörg 
 Florin                      Piano\n\nFreuen Sie sich auf „be
 swingte“ Stunden auf unserer Sommerbühne am Turm.\nEintritt frei
ATTACH;FMTTYPE=image/jpeg:https://kulturverein-schneverdingen.de/wp-conten
 t/uploads/2020/02/IMG-20220517-WA0000.jpg
CATEGORIES:Aktuell,Archiv
LOCATION:Bühne am Turm/Hofgelände Behrens\, Am Kirchhof\, Schneverdingen\
 , Niedersachsen\, 29640\, Deutschland
GEO:53.11212920000001;9.793131700000004
X-APPLE-STRUCTURED-LOCATION;VALUE=URI;X-ADDRESS=Am Kirchhof\, Schneverdinge
 n\, Niedersachsen\, 29640\, Deutschland;X-APPLE-RADIUS=100;X-TITLE=Bühne 
 am Turm/Hofgelände Behrens:geo:53.11212920000001,9.793131700000004
END:VEVENT
END:VCALENDAR