BEGIN:VCALENDAR
VERSION:2.0
PRODID:-//wp-events-plugin.com//7.2.3.1//EN
BEGIN:VEVENT
UID:6162@kulturverein-schneverdingen.de
DTSTART:20200131T180000Z
DTEND:20200131T203000Z
DTSTAMP:20200131T083251Z
URL:https://kulturverein-schneverdingen.de/events/jahreshauptversammlung-2
 020/
SUMMARY:Jahreshauptversammlung 2020
DESCRIPTION:&nbsp\;\n\n\n\n&nbsp\;\nEinladung\nzur Mitgliederversammlung 20
 20\n\nan alle Mitglieder\, Freunde und Interessierten\n\nam Freitag\, dem 
 31. Januar\, um 20 Uhr in der Gaststätte „Löwenbräu“\,\n\nAm Bahnda
 mm 3 in 29640 Schneverdingen.\n\nTagesordnung\n\nTOP 1          
    Begrüßung\n\n TOP 2             Regularien\n\n 	Festste
 llung der ordnungsgemäßen Ladung\n 	Genehmigung des Protokolls der letzt
 en Mitgliederversammlung\n 	Feststellung der Tagesordnung\n\nTOP 3    
         Jahresbericht\n\n 	Bericht des Vorstands\n 	Bericht des Kas
 senwarts\n 	Bericht der Kassenprüfer\n\n TOP 4             E
 ntlastung des Kassenwarts und des Vorstands\n\n TOP 5          
    Wahlen\n\nTOP 6             Aussichten und Programm 2020\
 n\n TOP 7             Bericht zum Soziokulturellen Begegnungs
 zentrum „Alte Schlachterei“\n\n TOP 8             Grußwo
 rt der Stadt\n\n TOP 9             Ehrungen\, Mitglied des Ja
 hres\n\nTOP 10           Verschiedenes\n\n TOP 11       
     Schließung\n\nDr. Carsten Bargmann\, 1. Vorsitzender\nSchneverding
 en\, 01.12.2019
CATEGORIES:Aktuell,Archiv
LOCATION:Gaststätte Löwenbräu\, Am Bahndamm 3\, Schneverdingen\, 29640\,
  Deutschland
GEO:53.11372;9.797910000000002
X-APPLE-STRUCTURED-LOCATION;VALUE=URI;X-ADDRESS=Am Bahndamm 3\, Schneverdin
 gen\, 29640\, Deutschland;X-APPLE-RADIUS=100;X-TITLE=Gaststätte Löwenbr
 äu:geo:53.11372,9.797910000000002
END:VEVENT
END:VCALENDAR