BEGIN:VCALENDAR
VERSION:2.0
PRODID:-//wp-events-plugin.com//7.2.3.1//EN
BEGIN:VEVENT
UID:6426@kulturverein-schneverdingen.de
DTSTART:20211008T173000Z
DTEND:20211008T201500Z
DTSTAMP:20211007T072431Z
URL:https://kulturverein-schneverdingen.de/events/impro-auf-abwegen/
SUMMARY:Impro auf Abwegen - Dreierlikör mit improvisiertem Theater
DESCRIPTION:Dreierlikör mit improvisiertem Theater - Längere Geschichten 
 statt kurzer Spiele und Sketche\nDas Impro-Theater Dreierlikör besteht\, 
 wie der Name schon erahnen lässt\, aus drei erfahrenen Improspieler:innen
 . Frauke Lohmann\, Karina Kraeft und Oliver Hofmann verabschieden sich in 
 dieser neuen Formation von den schnellen Spielen und kurzen Szenen\, die m
 an bislang mit Impro-Theater in Schneverdingen verbindet.\nMit Dreierlikö
 r wird man in Geschichten hineingezogen\, die mit vielen Wendungen gespick
 t sind\, wo sich Spannungsbögen langsam aufbauen\, um am Ende in einem ü
 berraschenden Schluss zu gipfeln. Vielleicht aber auch nicht.\nEinen erste
 n Eindruck davon konnten die Besucher:innen des „Pop-Up-Events“ rund u
 m die alte Schneverdinger Schlachterei im Oktober 2020 bekommen. Hier wurd
 en lebhafte Krimis mit insgesamt sechs Charakteren von den drei Schauspiel
 er:innen entwickelt und zum Leben erweckt.\nNatürlich werden auch die lä
 ngeren Stücke komplett vor Ort improvisiert\, so weiß ja niemand im Vorh
 inein\, welche Mordwaffe an welchem Tatort zum Einsatz kam. Das bestimmt n
 ämlich das Publikum. Und ob es überhaupt einen Mord gab\, werden die Erm
 ittlungen der SOKO Dreierlikör ergeben.\nAber vielleicht gibt es beim nä
 chsten Mal auch etwas ganz anderes. Wer kann das schon wissen? Wird es vie
 lleicht ein Western zu Ostern? Ein Märchen über Wissenschaftler? Oder ev
 entuell eine wilde Romanze wie in den Groschenromanen? Und das dann auch n
 och als Musical?\nEs gibt unendlich viele Möglichkeiten\, da sollte man s
 ich einfach überraschen lassen. Und manchmal kommen auch die Drei auf der
  Bühne ganz schön durcheinander. Mal sehen\, wem es auffällt.\nMusikali
 sch wird Dreierlikör begleitet durch Chris Frerichs aus Bremen.\nEintritt
   VVK  6 €  AK 9  €\nDie Veranstaltung findet unter Anwendung der 
 3-G-Regel statt.
ATTACH;FMTTYPE=image/jpeg:https://kulturverein-schneverdingen.de/wp-conten
 t/uploads/2021/07/Dreierlikoer-1-scaled.jpg
CATEGORIES:Abends,Aktuell,Anlass/Voraussetzung,Archiv,Barrierefrei,Begegnu
 ngen/zusammen sein,Bei Regenwetter,Comedy/Kabarett,Eintritt frei,Mit der
 Familie,Theater
LOCATION:Eine-Welt-Kirche\, Ernst-Dax-Str. 8\, Schneverdingen\, 29640\, Deu
 tschland
GEO:53.110135;9.809326
X-APPLE-STRUCTURED-LOCATION;VALUE=URI;X-ADDRESS=Ernst-Dax-Str. 8\, Schnever
 dingen\, 29640\, Deutschland;X-APPLE-RADIUS=100;X-TITLE=Eine-Welt-Kirche:g
 eo:53.110135,9.809326
END:VEVENT
END:VCALENDAR