BEGIN:VCALENDAR
VERSION:2.0
PRODID:-//wp-events-plugin.com//7.2.3.1//EN
BEGIN:VEVENT
UID:6689@kulturverein-schneverdingen.de
DTSTART:20221028T170000Z
DTEND:20221028T200000Z
DTSTAMP:20220815T095911Z
URL:https://kulturverein-schneverdingen.de/events/herbstlesung-des-literat
 entreffs/
SUMMARY:Herbstlesung des Literatentreffs: Gänsehaut
DESCRIPTION:Herbstlesung des Literatentreffs des Kulturvereins Schneverding
 en e.V. \n\nGÄNSEHAUT\nBei welcher Gelegenheit hatten Sie zum letzten Ma
 l GÄNSEHAUT?\nBei einem nächtlichen (Alb-)Traum\, der Sie schweißgebade
 t aus dem Schlaf hochschrecken ließ? War es der Anblick von Naturgewalten
 \, der Ihnen den Schauer über den Rücken jagte? Die Begegnung mit einem 
 eigenartigen Menschen\, eine besonders rührende Filmszene oder vielleicht
  gar eine echte Liebeserklärung? Oder etwas ganz anderes?\nDie Hobby-Auto
 ren vom Schneverdinger Literatentreff haben sich des spannenden Themas ang
 enommen und die entstandenen Werke für Sie in der diesjährigen Herbstles
 ung zusammengestellt.\nSie findet traditionell im Theeshof statt – einem
  überaus gut geeigneten Ambiente\, gerade für dieses Thema!\n Eintritt:
  VVK 5 €    TK  8 €\n\nFiebern Sie mit\, lassen Sie sich von schau
 rig-schönen\, spannenden\, geheimnisvollen und überraschenden Texten ein
 fangen\, erschauern und verzaubern!\nIm Literatentreff des Kulturverein Sc
 hneverdingen e. V. trifft sich regelmäßig eine Gruppe von kreativen Leut
 en\, die Freude daran haben\, selbst zu schreiben und sich damit anderen m
 itzuteilen. Dabei sind wir jederzeit offen für Inspirationen und Anregung
 en\, die einem überall begegnen können\, probieren auch mal neue Wege de
 s Schreibens\, diskutieren und streiten im positiven Sinne über literaris
 che Werke (am liebsten über unsere eigenen)\, erleben unsere Unterschiede
  als Bereicherung und haben somit eine Menge Spaß an unserem Hobby.\nGeme
 insame Veranstaltung mit dem Heimatbund Schneverdingen.\n&nbsp\;
ATTACH;FMTTYPE=image/jpeg:https://kulturverein-schneverdingen.de/wp-conten
 t/uploads/2021/10/Bild-3-scaled.jpg
CATEGORIES:Abends,Aktuell,Anlass/Voraussetzung,Archiv,Barrierefrei,Begegnu
 ngen/zusammen sein,Bei Regenwetter,Kommende
 Veranstaltungen,Lesung/Literatur,Mit der Familie,Mit mehreren Leuten/wenn
 Besuch kommt,Tageszeit,Veranstaltungsart
LOCATION:Theeshof\, Hansahlener Dorfstraße 16\, Schneverdingen\, 29640\, D
 eutschland
GEO:53.12992999999999;9.786280000000033
X-APPLE-STRUCTURED-LOCATION;VALUE=URI;X-ADDRESS=Hansahlener Dorfstraße 16\
 , Schneverdingen\, 29640\, Deutschland;X-APPLE-RADIUS=100;X-TITLE=Theeshof
 :geo:53.12992999999999,9.786280000000033
END:VEVENT
END:VCALENDAR